BEGIN:VCALENDAR
VERSION:2.0
PRODID:-//ChamberMaster//Event Calendar 2.0//EN
METHOD:PUBLISH
X-PUBLISHED-TTL:P3D
REFRESH-INTERVAL:P3D
CALSCALE:GREGORIAN
BEGIN:VEVENT
DTSTART:20161013T153000Z
DTEND:20161013T170000Z
X-MICROSOFT-CDO-ALLDAYEVENT:FALSE
SUMMARY:Junior Achievement Kick-Off Lunch with the Comptroller
DESCRIPTION:Join us to celebrate the launch of Junior Achievement Financial Literacy programs in Caroline County Schools with our guest\, Maryland State Comptroller\, Peter Franchot.  Space is limited so please reserve your spot early.\n\n\n\nSponsored by Caroline County Public Schools\n\n\n\nPlease stay after the lunch presentation and join us in the courtyard at 1:00 pm to see Comptroller Peter Franchot present the Silver Hammer award to Federalsburg Elementary School.
X-ALT-DESC;FMTTYPE=text/html:Join us to celebrate the launch of Junior Achievement Financial Literacy programs in Caroline County Schools with&nbsp\;our guest\, Maryland State Comptroller\, Peter Franchot. &nbsp\;Space is limited so please reserve your spot early.<br />\n<br />\nSponsored by <a href="http://www.cl.k12.md.us/">Caroline County Public Schools</a><br />\n<br />\nPlease stay after the lunch presentation and join us in the courtyard&nbsp\;at 1:00 pm to see Comptroller Peter Franchot present the Silver Hammer award to Federalsburg Elementary School.&nbsp\;
LOCATION:Federalsburg Elementary School Music Room 302 S University Ave Federalsburg\, MD 21632
UID:e.1366.605
SEQUENCE:3
DTSTAMP:20260426T032948Z
URL:https://business.carolinechamber.org/events/details/junior-achievement-kick-off-lunch-with-the-comptroller-605
END:VEVENT

END:VCALENDAR
