BEGIN:VCALENDAR
VERSION:2.0
PRODID:-//ChamberMaster//Event Calendar 2.0//EN
METHOD:PUBLISH
X-PUBLISHED-TTL:P3D
REFRESH-INTERVAL:P3D
CALSCALE:GREGORIAN
BEGIN:VEVENT
DTSTART:20200613T140000Z
DTEND:20200613T200000Z
X-MICROSOFT-CDO-ALLDAYEVENT:FALSE
SUMMARY:LAVENDER FESTIVAL Canceled
DESCRIPTION:visit Smokey Cat Lavender on Facebook for updated information
X-ALT-DESC;FMTTYPE=text/html:visit Smokey Cat Lavender on Facebook for updated information
LOCATION:SMOKEY CAT LAVENDER FARM 5090 LONG SWAMP RD FEDERALSBURG\, MD 21632
UID:e.1366.3592
SEQUENCE:3
DTSTAMP:20260423T145104Z
URL:https://business.carolinechamber.org/events/details/lavender-festival-canceled-3592
END:VEVENT

END:VCALENDAR
