BEGIN:VCALENDAR
VERSION:2.0
PRODID:-//ChamberMaster//Event Calendar 2.0//EN
METHOD:PUBLISH
X-PUBLISHED-TTL:P3D
REFRESH-INTERVAL:P3D
CALSCALE:GREGORIAN
BEGIN:VEVENT
DTSTART:20190217T160000Z
DTEND:20190217T210000Z
X-MICROSOFT-CDO-ALLDAYEVENT:FALSE
SUMMARY:Library Mini Golf
DESCRIPTION:Join the fun as the Friends of the Library turn the Denton Library into a mini golf course! Saturday evening's event is open to attendees ages 21 and older\, and the $20 admission includes one round of golf\, one free drink\, and heavy appetizers. Sunday's event is open to all ages and the admission is $7 per person or $30 for five attendees. Tickets are available to purchase at all three library locations. Don't miss this easy and enjoyable way to support your library!
X-ALT-DESC;FMTTYPE=text/html:<span style="color: rgb(32\, 32\, 32)\; font-family: Arial\, sans-serif\; font-size: 15.3333px\; background-color: rgb(255\, 255\, 255)\;">Join the fun as the Friends of the Library turn the Denton Library into a mini golf course!&nbsp\;Saturday evening&#39\;s event is open to attendees ages 21 and older\, and the $20 admission includes one round of golf\, one free drink\, and heavy appetizers. Sunday&#39\;s event is open to all ages and the admission is $7 per person or $30 for five attendees. Tickets are available to purchase at all three library locations. Don&#39\;t miss this easy and enjoyable way to support your library!&nbsp\;</span>
LOCATION:Caroline County Central Library Market Street\, Denton\, MD
UID:e.1366.2082
SEQUENCE:3
DTSTAMP:20260424T111633Z
URL:https://business.carolinechamber.org/events/details/library-mini-golf-2082
END:VEVENT

END:VCALENDAR
