BEGIN:VCALENDAR
VERSION:2.0
PRODID:-//ChamberMaster//Event Calendar 2.0//EN
METHOD:PUBLISH
X-PUBLISHED-TTL:P3D
REFRESH-INTERVAL:P3D
CALSCALE:GREGORIAN
BEGIN:VEVENT
DTSTART:20191205T230000Z
DTEND:20191206T010000Z
X-MICROSOFT-CDO-ALLDAYEVENT:FALSE
SUMMARY:Lighting of the Green
DESCRIPTION:It's a tradition to gather at the steps of the County Courthouse to discover\n\nthe magic words that will light the trees signaling the beginning of the\n\nholiday season.  Join us Thursday\, December 5 at 7 p.m. for the Lighting of\n\nthe Green and enjoy performances by local choirs and music groups adding to\n\nthe celebration.  This event follows the Annual Christmas Parade at 6 p.m.\n\nin downtown Denton including custom floats\, marching bands\, fire trucks and\n\nqueens.  For parade entry information call the Town of Denton at 479-2050.
X-ALT-DESC;FMTTYPE=text/html:<span style="font-size:16px\;"><span style="font-family:times new roman\;"><span style="background-color: rgb(255\, 255\, 255)\;">It&#39\;s a tradition to gather at the steps of the County Courthouse to discover</span><br style="font-family: monospace\; font-size: 12.09px\; background-color: rgb(255\, 255\, 255)\;" />\n<span style="background-color: rgb(255\, 255\, 255)\;">the magic words that will light the trees signaling the beginning of the</span><br style="font-family: monospace\; font-size: 12.09px\; background-color: rgb(255\, 255\, 255)\;" />\n<span style="background-color: rgb(255\, 255\, 255)\;">holiday season. &nbsp\;Join us Thursday\, December 5 at 7 p.m. for the Lighting of</span><br style="font-family: monospace\; font-size: 12.09px\; background-color: rgb(255\, 255\, 255)\;" />\n<span style="background-color: rgb(255\, 255\, 255)\;">the Green and enjoy performances by local choirs and music groups adding to</span><br style="font-family: monospace\; font-size: 12.09px\; background-color: rgb(255\, 255\, 255)\;" />\n<span style="background-color: rgb(255\, 255\, 255)\;">the celebration. &nbsp\;This event follows the Annual Christmas Parade at 6 p.m.</span><br style="font-family: monospace\; font-size: 12.09px\; background-color: rgb(255\, 255\, 255)\;" />\n<span style="background-color: rgb(255\, 255\, 255)\;">in downtown Denton including custom floats\, marching bands\, fire trucks and</span><br style="font-family: monospace\; font-size: 12.09px\; background-color: rgb(255\, 255\, 255)\;" />\n<span style="background-color: rgb(255\, 255\, 255)\;">queens. &nbsp\;For parade entry information call the Town of Denton at 479-2050.</span></span></span>
LOCATION:
UID:e.1366.3563
SEQUENCE:3
DTSTAMP:20260423T220517Z
URL:https://business.carolinechamber.org/events/details/lighting-of-the-green-3563
END:VEVENT

END:VCALENDAR
