BEGIN:VCALENDAR
VERSION:2.0
PRODID:-//ChamberMaster//Event Calendar 2.0//EN
METHOD:PUBLISH
X-PUBLISHED-TTL:P3D
REFRESH-INTERVAL:P3D
CALSCALE:GREGORIAN
BEGIN:VEVENT
DTSTART:20181219T233000Z
DTEND:20181220T003000Z
X-MICROSOFT-CDO-ALLDAYEVENT:FALSE
SUMMARY:Lockerman Middle School Holiday Band COncert
DESCRIPTION:
X-ALT-DESC;FMTTYPE=text/html:
LOCATION:Lockerman Middle School Gym
UID:e.1366.2057
SEQUENCE:3
DTSTAMP:20260424T140033Z
URL:https://business.carolinechamber.org/events/details/lockerman-middle-school-holiday-band-concert-2057
END:VEVENT

END:VCALENDAR
