BEGIN:VCALENDAR
VERSION:2.0
PRODID:-//ChamberMaster//Event Calendar 2.0//EN
METHOD:PUBLISH
X-PUBLISHED-TTL:P3D
REFRESH-INTERVAL:P3D
CALSCALE:GREGORIAN
BEGIN:VEVENT
DTSTART:20180711T160000Z
DTEND:20180711T170000Z
X-MICROSOFT-CDO-ALLDAYEVENT:FALSE
SUMMARY:Lunch & Learn: Five Money Questions for Women
DESCRIPTION:Women and men have differing considerations when it comes to long-term financial goals. For instance\, because of a woman's average longer life span\, your needs may be significantly different from those of your spouse or others. Does your financial strategy fit your lifestyle and needs? \n\nJoin us and Ann Jacobs to learn more as we explore five critical money questions for women. Lunch will be served.
X-ALT-DESC;FMTTYPE=text/html:<p>Women and men have differing considerations when it comes to long-term financial goals. For instance\, because of a woman&#39\;s average longer life span\, your needs may be significantly different from those of your spouse or others. Does your financial strategy fit your lifestyle and needs?&nbsp\;</p>\n\n<p>Join us and Ann Jacobs to learn more as we explore five critical money questions for women. Lunch will be served.</p>\n
LOCATION:Chamber Large meeting room 9194 Legion Rd Denton\, MD 21629
UID:e.1366.2003
SEQUENCE:3
DTSTAMP:20260424T205309Z
URL:https://business.carolinechamber.org/events/details/lunch-learn-five-money-questions-for-women-2003
END:VEVENT

END:VCALENDAR
