BEGIN:VCALENDAR
VERSION:2.0
PRODID:-//ChamberMaster//Event Calendar 2.0//EN
METHOD:PUBLISH
X-PUBLISHED-TTL:P3D
REFRESH-INTERVAL:P3D
CALSCALE:GREGORIAN
BEGIN:VEVENT
DTSTART:20180725T160000Z
DTEND:20180725T170000Z
X-MICROSOFT-CDO-ALLDAYEVENT:FALSE
SUMMARY:Lunch & Learn: Outsmart the Scammers
DESCRIPTION:Incidents of fraud are on the rise\, and scammers' tactics are becoming more complex. Theat's why it's important to educate yourself about fraud. And while no one is immune\, there are steps you can take to Outsmart the Scammers. \n\n\n\nJoin us for this presentation and learn important strategies to help protect you and the ones you love. Edward Jones Financial Advisor\, Ann Jacbos will share:\n\n- How to spot certain red flags that may indicate a fraudulent encounter\n\n- Resources you can turn to in the event you or a loved on is targeted\n\n-Steps you can take now to help protect yourself and your loved ones
X-ALT-DESC;FMTTYPE=text/html:<p>Incidents of fraud are on the rise\, and scammers&#39\; tactics are becoming more complex. Theat&#39\;s why it&#39\;s important to educate yourself about fraud. And while no one is immune\, there are steps you can take to Outsmart the Scammers.&nbsp\;<br />\n<br />\nJoin us for this presentation and learn important strategies to help protect you and the ones you love. Edward Jones Financial Advisor\, Ann Jacbos will share:</p>\n\n<p>- How to spot certain red flags that may indicate a fraudulent encounter<br />\n- Resources you can turn to in the event you or a loved on is targeted<br />\n-Steps you can take now to help protect yourself and your loved ones<br />\n&nbsp\;</p>\n
LOCATION:Chamber Large Conference Room 9194 Legion Road Denton\, MD 21629
UID:e.1366.2006
SEQUENCE:3
DTSTAMP:20260424T205116Z
URL:https://business.carolinechamber.org/events/details/lunch-learn-outsmart-the-scammers-2006
END:VEVENT

END:VCALENDAR
