BEGIN:VCALENDAR
VERSION:2.0
PRODID:-//ChamberMaster//Event Calendar 2.0//EN
METHOD:PUBLISH
X-PUBLISHED-TTL:P3D
REFRESH-INTERVAL:P3D
CALSCALE:GREGORIAN
BEGIN:VEVENT
DTSTART:20191114T170000Z
DTEND:20191114T183000Z
X-MICROSOFT-CDO-ALLDAYEVENT:FALSE
SUMMARY:Lunch & Learn - Paint Pumpkins & Gourds
DESCRIPTION:This is a fun and flexible opportunity to spend your lunch break painting! You can come anytime between 12 pm and 1:30 pm to work on this month's painting. Attend one session or attend all for only $25 for non-members and $20 for CCCA members. All supplies will be provided to complete the acrylic painting on a canvas.\n\nBring your lunch and join us for an hour of paint time and instruction. This painting project can be completed in two one-hour sessions. If you cannot attend two or more classes\, come for whichever that you can and finish your project another time.\n\nAre you an experienced artist who wants to work on another project? Join us for this class to have fun during your lunch break talking with others and making art!\n\nAny experience level is welcome. The basics of acrylic painting will be taught with step-by-step instructions! Ages 12 and up\, and homeschoolers\, are welcome!
X-ALT-DESC;FMTTYPE=text/html:<p style="box-sizing: border-box\; vertical-align: baseline\; font-family: Arial\, sans-serif\; font-size: 16px\; outline: 0px\; padding: 0px 0px 27px\; margin: 0px\; border: 0px\; -webkit-font-smoothing: subpixel-antialiased\; color: rgb(103\, 103\, 103)\; background-color: rgb(255\, 255\, 255)\;">This is a fun and flexible opportunity to spend your lunch break painting! You can come anytime between 12 pm and 1:30 pm to work on this month&rsquo\;s painting. Attend one session or attend all for only $25 for non-members and $20 for CCCA members. All supplies will be provided to complete the acrylic painting on a canvas.</p>\n\n<p style="box-sizing: border-box\; vertical-align: baseline\; font-family: Arial\, sans-serif\; font-size: 16px\; outline: 0px\; padding: 0px 0px 27px\; margin: 0px\; border: 0px\; -webkit-font-smoothing: subpixel-antialiased\; color: rgb(103\, 103\, 103)\; background-color: rgb(255\, 255\, 255)\;">Bring your lunch and join us for an hour of paint time and instruction. This painting project can be completed in two one-hour sessions. If you cannot attend two or more classes\, come for whichever that you can and finish your project another time.</p>\n\n<p style="box-sizing: border-box\; vertical-align: baseline\; font-family: Arial\, sans-serif\; font-size: 16px\; outline: 0px\; padding: 0px 0px 27px\; margin: 0px\; border: 0px\; -webkit-font-smoothing: subpixel-antialiased\; color: rgb(103\, 103\, 103)\; background-color: rgb(255\, 255\, 255)\;">Are you an experienced artist who wants to work on another project? Join us for this class to have fun during your lunch break talking with others and making art!</p>\n\n<p style="box-sizing: border-box\; vertical-align: baseline\; font-family: Arial\, sans-serif\; font-size: 16px\; outline: 0px\; padding: 0px\; margin: 0px\; border: 0px\; -webkit-font-smoothing: subpixel-antialiased\; color: rgb(103\, 103\, 103)\; background-color: rgb(255\, 255\, 255)\;">Any experience level is welcome. The basics of acrylic painting will be taught with step-by-step instructions! Ages 12 and up\, and homeschoolers\, are welcome!</p>\n
LOCATION:
UID:e.1366.3553
SEQUENCE:3
DTSTAMP:20260423T233434Z
URL:https://business.carolinechamber.org/events/details/lunch-learn-paint-pumpkins-gourds-3553
END:VEVENT

END:VCALENDAR
