BEGIN:VCALENDAR
VERSION:2.0
PRODID:-//ChamberMaster//Event Calendar 2.0//EN
METHOD:PUBLISH
X-PUBLISHED-TTL:P3D
REFRESH-INTERVAL:P3D
CALSCALE:GREGORIAN
BEGIN:VEVENT
DTSTART:20170407T170000Z
DTEND:20170407T190000Z
X-MICROSOFT-CDO-ALLDAYEVENT:FALSE
SUMMARY:Maryland's Eastern Shore Police Chief's Roundtable
DESCRIPTION:Topics of Discussion:\n\n	Understanding what is being implemented in our communities\n	DOJ Task Force on 21st Century Policing Recommendations \n\n\n\nPanelist's include Sheriffs and Police Chiefs from counties and municipalities from around the shore.
X-ALT-DESC;FMTTYPE=text/html:Topics of Discussion:\n<ul>\n	<li>Understanding what is being implemented in our communities</li>\n	<li>DOJ Task Force on 21st Century Policing Recommendations&nbsp\;</li>\n</ul>\n<br />\nPanelist&#39\;s include Sheriffs and Police Chiefs from counties and municipalities from around the shore.
LOCATION:Caroline County Chamber of Commerce's large Conference Room located in the Soil Conservation District Building 9194 Legion Road Denton\, Maryland
UID:e.1366.663
SEQUENCE:3
DTSTAMP:20260425T185006Z
URL:https://business.carolinechamber.org/events/details/maryland-s-eastern-shore-police-chief-s-roundtable-663
END:VEVENT

END:VCALENDAR
