BEGIN:VCALENDAR
VERSION:2.0
PRODID:-//ChamberMaster//Event Calendar 2.0//EN
METHOD:PUBLISH
X-PUBLISHED-TTL:P3D
REFRESH-INTERVAL:P3D
CALSCALE:GREGORIAN
BEGIN:VEVENT
DTSTART:20190428T150000Z
DTEND:20190430T160000Z
X-MICROSOFT-CDO-ALLDAYEVENT:FALSE
SUMMARY:MEDA 2019 Annual Conference
DESCRIPTION:Transforming Lives through Inclusive Economic Development   How a Focus on Diversity\, Equity and Inclusion in Economic Development Enriches Communities? Join us at the 2019 Annual Conference for an engaging examination of the role economic development plays in creating comprehensive and equitable opportunity for increasingly diverse communities. Maryland's business community and talent pool are increasingly diverse   in gender\, nationality\, race\, income and skill levels. The challenge for economic development professionals is to develop strategies that create opportunity and wealth creation across the spectrum of that diversity. Hear from experts about developing inclusive business development and workforce development strategies\, encouraging companies to embrace the development of diverse talent\, and embracing greater diversity within our own economic development organizations.
X-ALT-DESC;FMTTYPE=text/html:Transforming Lives through Inclusive Economic Development&nbsp\;&ndash\; How a Focus on Diversity\, Equity and Inclusion in Economic Development Enriches Communities? Join us at the 2019 Annual Conference for an engaging examination of the role economic development plays in creating comprehensive and equitable opportunity for increasingly diverse communities. Maryland&rsquo\;s business community and talent pool are increasingly diverse &ndash\; in gender\, nationality\, race\, income and skill levels. The challenge for economic development professionals is to develop strategies that create opportunity and wealth creation across the spectrum of that diversity. Hear from experts about developing inclusive business development and workforce development strategies\, encouraging&nbsp\;companies to embrace the development of diverse talent\, and embracing greater diversity within our own economic development organizations.
LOCATION:Hyatt Regency Chesapeake Bay 100 Heron Blvd. at Route 50 Cambridge\, Maryland 21613 United States
UID:e.1366.2253
SEQUENCE:3
DTSTAMP:20260424T085137Z
URL:https://business.carolinechamber.org/events/details/meda-2019-annual-conference-2253
END:VEVENT

END:VCALENDAR
