BEGIN:VCALENDAR
VERSION:2.0
PRODID:-//ChamberMaster//Event Calendar 2.0//EN
METHOD:PUBLISH
X-PUBLISHED-TTL:P3D
REFRESH-INTERVAL:P3D
CALSCALE:GREGORIAN
BEGIN:VEVENT
DTSTART:20180913T120000Z
DTEND:20180913T140000Z
X-MICROSOFT-CDO-ALLDAYEVENT:FALSE
SUMMARY:Meet & Greet with Debbie Bowden\, Economic Development Director
DESCRIPTION:You're invited to meet Debbie Bowden\, Director for Economic Development for Caroline County.  \n\n\n\nGuests will enjoy a hot buffet while Debbie leads a discussion on what economic development means to you\, the Caroline County business community. \n\n\n\nPrior to taking on the leadership role for business and workforce development\, Debbie represented the Maryland Department of Commerce in the Mid-Shore region. Her time with Commerce was the culmination of 12 years of State service. Debbie joined the public sector after 20 years of owning and operating small businesses.\n\n\n\nA Delmarva native\, Debbie currently resides with her family in Barclay. She is a staunch advocate for the Eastern Shore\, and strives to do her part for prosperity and economic viability for the place she calls home. \n\n\n\nPlease join us! Space is limited\, please register early!
X-ALT-DESC;FMTTYPE=text/html:<span style="font-size:14px\;">You&#39\;re invited to meet Debbie Bowden\, Director for Economic D<span style="font-family:arial\;">evelopment for Caroline County.&nbsp\;&nbsp\;</span></span><br />\n<br />\n<span style="color: rgb(51\, 51\, 51)\; font-family: arial\; font-size: 14px\; background-color: rgb(255\, 255\, 255)\;">Guests will enjoy a hot buffet while Debbie leads a discussion on what economic development means to you\, the Caroline County business community.&nbsp\;</span><br />\n<br />\n<span style="font-size:14px\;"><span style="font-family:arial\;">Prior to taking on the leadership role for business and workforce development\, Debbie represented the Maryland Department of Commerce in the Mid-Shore region. Her time with Commerce was the culmination of 12 years of State service. Debbie joined the public sector after 20 years of owning and operating small businesses.<br />\n<br />\nA Delmarva native\, Debbie currently resides with her family in Barclay. She is a staunch advocate for the Eastern Shore\, and strives to do her part for prosperity and economic viability for the place she calls home.&nbsp\;<br />\n<br />\nPlease join us! Space is limited\, please register early!&nbsp\;</span></span><br />\n&nbsp\;
LOCATION:9 Central Diner 9 Central Avenue Ridgely\, MD
UID:e.1366.2035
SEQUENCE:3
DTSTAMP:20260424T175622Z
URL:https://business.carolinechamber.org/events/details/meet-greet-with-debbie-bowden-economic-development-director-2035
END:VEVENT

END:VCALENDAR
