BEGIN:VCALENDAR
VERSION:2.0
PRODID:-//ChamberMaster//Event Calendar 2.0//EN
METHOD:PUBLISH
X-PUBLISHED-TTL:P3D
REFRESH-INTERVAL:P3D
CALSCALE:GREGORIAN
BEGIN:VEVENT
DTSTART:20191211T000000Z
DTEND:20191211T020000Z
X-MICROSOFT-CDO-ALLDAYEVENT:FALSE
SUMMARY:Mid-Shore Community Band Holiday Concert
DESCRIPTION:Kick off the holiday season with a special performance at the Mid-Shore\n\nCommunity Band Holiday Concert! Don't miss the opportunity to hear local\n\nmusicians spread a little cheer through a mix of well-known and lesser-known\n\nholiday tunes. Concert will be Tuesday\, December 10 at 7 p.m. at the North\n\nCaroline High School auditorium. Free will Donations to Mid-Shore band are\n\nencouraged.
X-ALT-DESC;FMTTYPE=text/html:<span style="font-size:14px\;"><span style="font-family:courier new\;"><span style="background-color: rgb(255\, 255\, 255)\;">Kick off the holiday season with a special performance at the Mid-Shore</span><br style="font-family: monospace\; font-size: 12.09px\; background-color: rgb(255\, 255\, 255)\;" />\n<span style="background-color: rgb(255\, 255\, 255)\;">Community Band Holiday Concert! Don&#39\;t miss the opportunity to hear local</span><br style="font-family: monospace\; font-size: 12.09px\; background-color: rgb(255\, 255\, 255)\;" />\n<span style="background-color: rgb(255\, 255\, 255)\;">musicians spread a little cheer through a mix of well-known and lesser-known</span><br style="font-family: monospace\; font-size: 12.09px\; background-color: rgb(255\, 255\, 255)\;" />\n<span style="background-color: rgb(255\, 255\, 255)\;">holiday tunes. Concert will be Tuesday\, December 10 at 7 p.m. at the North</span><br style="font-family: monospace\; font-size: 12.09px\; background-color: rgb(255\, 255\, 255)\;" />\n<span style="background-color: rgb(255\, 255\, 255)\;">Caroline High School auditorium. Free will Donations to Mid-Shore band are</span><br style="font-family: monospace\; font-size: 12.09px\; background-color: rgb(255\, 255\, 255)\;" />\n<span style="background-color: rgb(255\, 255\, 255)\;">encouraged.</span></span></span>
LOCATION:
UID:e.1366.3561
SEQUENCE:3
DTSTAMP:20260423T220535Z
URL:https://business.carolinechamber.org/events/details/mid-shore-community-band-holiday-concert-3561
END:VEVENT

END:VCALENDAR
