BEGIN:VCALENDAR
VERSION:2.0
PRODID:-//ChamberMaster//Event Calendar 2.0//EN
METHOD:PUBLISH
X-PUBLISHED-TTL:P3D
REFRESH-INTERVAL:P3D
CALSCALE:GREGORIAN
BEGIN:VEVENT
DTSTART:20200206T130000Z
DTEND:20200206T150000Z
X-MICROSOFT-CDO-ALLDAYEVENT:FALSE
SUMMARY:New Member Meet & Greet
DESCRIPTION:Come meet the newest Members of the Chamber at a "Breakfast" Meet & Greet.\n\nBring a guest\, non-chamber member business and be entered to win a $50 gift card.\n\nView the recently remodeled Best Western in Denton.
X-ALT-DESC;FMTTYPE=text/html:Come meet the newest Members of the Chamber at a &quot\;Breakfast&quot\; Meet &amp\; Greet.<br />\nBring a guest\, non-chamber member business and be entered to win a $50 gift card.<br />\nView the recently remodeled Best Western in Denton.<br />\n<br />\n&nbsp\;
LOCATION:Best Western - Denton
UID:e.1366.3596
SEQUENCE:3
DTSTAMP:20260423T190301Z
URL:https://business.carolinechamber.org/events/details/new-member-meet-greet-3596
END:VEVENT

END:VCALENDAR
