BEGIN:VCALENDAR
VERSION:2.0
PRODID:-//ChamberMaster//Event Calendar 2.0//EN
METHOD:PUBLISH
X-PUBLISHED-TTL:P3D
REFRESH-INTERVAL:P3D
CALSCALE:GREGORIAN
BEGIN:VEVENT
DTSTART;VALUE=DATE:20181013
DTEND;VALUE=DATE:20181014
TRANSP:TRANSPARENT
X-MICROSOFT-CDO-ALLDAYEVENT:TRUE
SUMMARY:New York City Bus Trip
DESCRIPTION:Take a Bus Trip to New York City!  Explore the city on your own! Enjoy the sights of Times Square\, shop on 5th Avenue\, visit museums like the Guggenheim and MOMA\, take in a Broadway show\, visit the 9/11 Memorial\, take a horse-drawn carriage ride around Central Park\, check out the view from the top of the Empire State Building\, grab a slice in Brooklyn!\n\n\n\nThere is so much to see and do and if you come with us you don't have to worry about tolls\, traffic or parking.  We will drop off and pick up right in mid-town near Times Square.
X-ALT-DESC;FMTTYPE=text/html:Take a Bus Trip to New York City!&nbsp\; Explore the city on your own! Enjoy the sights of Times Square\, shop on 5th Avenue\, visit museums like the Guggenheim and MOMA\, take in a Broadway show\, visit the 9/11 Memorial\, take a horse-drawn carriage ride around Central Park\, check out the view from the top of the Empire State Building\, grab a slice in Brooklyn!<br />\n<br />\nThere is <strong>so</strong> much to see and do and if you come with us you don&#39\;t have to worry about tolls\, traffic or parking. &nbsp\;We will drop off and pick up right in mid-town near Times Square.&nbsp\;&nbsp\;<br />\n<br />\n&nbsp\;
LOCATION:Depart from the Denton Walmart parking lot\, 610 Legion Road at 5:30 am. Drop off in New York City is near Times Square at approximately 9:30 am. Departure from New York City is from the same Times Square drop off location at 7:30 pm. PLEASE be on time and REMEMBER the location! Return back to the Denton Walmart at approximately 11:30 pm.
UID:e.1366.2030
SEQUENCE:3
DTSTAMP:20260424T164945Z
URL:https://business.carolinechamber.org/events/details/new-york-city-bus-trip-2030
END:VEVENT

END:VCALENDAR
