BEGIN:VCALENDAR
VERSION:2.0
PRODID:-//ChamberMaster//Event Calendar 2.0//EN
METHOD:PUBLISH
X-PUBLISHED-TTL:P3D
REFRESH-INTERVAL:P3D
CALSCALE:GREGORIAN
BEGIN:VEVENT
DTSTART;VALUE=DATE:20171014
DTEND;VALUE=DATE:20171015
TRANSP:TRANSPARENT
X-MICROSOFT-CDO-ALLDAYEVENT:TRUE
SUMMARY:New York City Bus Trip
DESCRIPTION:Take a Bus Trip to New York City!  Shop at Macy's\, Saks Fifth Avenue\, Bloomingdale's. Visit the 9/11 Memorial\, the Metropolitan Museum of Art\, the Guggenheim.  Go to a Broadway play.  Visit Times Square\, Central Park\, The Empire State Building! Grab a slice in Brooklyn! So many fun and exciting things to do in the Big Apple!\n\n\n\nCheck out https://www.events12.com/newyork/october/  or https://www.lonelyplanet.com/travel-tips-and-articles/best-things-to-do-in-new-york-in-october/40625c8c-8a11-5710-a052-1479d2766609\n\n for events and fun things happening in NYC! \n\n\n\nThere is so much to see and do and if you come with us you don't have to worry about tolls\, traffic or parking.  We will drop you right in mid-town near Times Square!
X-ALT-DESC;FMTTYPE=text/html:Take a Bus Trip to New York City! &nbsp\;Shop at Macy&#39\;s\, Saks Fifth Avenue\, Bloomingdale&#39\;s. Visit the 9/11 Memorial\, the Metropolitan Museum of Art\, the Guggenheim. &nbsp\;Go to a Broadway play. &nbsp\;Visit Times Square\, Central Park\, The Empire State Building! Grab a slice in Brooklyn! So many fun and exciting things to do in the Big Apple!<br />\n<br />\nCheck out&nbsp\;https://www.events12.com/newyork/october/ &nbsp\;or https://www.lonelyplanet.com/travel-tips-and-articles/best-things-to-do-in-new-york-in-october/40625c8c-8a11-5710-a052-1479d2766609<br />\n&#8203\;for events and fun things happening in NYC!&nbsp\;<br />\n<br />\nThere is so much to see and do and if you come with us you don&#39\;t have to worry about tolls\, traffic or parking. &nbsp\;We will drop you right in mid-town near Times Square!&nbsp\;&nbsp\;<br />\n<br />\n&nbsp\;
LOCATION:Depart from Walmart parking lot in Denton at 5:30 am. Bus will drop us off in Times Square and pick up again as close as possible to same location.
UID:e.1366.813
SEQUENCE:3
DTSTAMP:20260425T103043Z
URL:https://business.carolinechamber.org/events/details/new-york-city-bus-trip-813
END:VEVENT

END:VCALENDAR
