BEGIN:VCALENDAR
VERSION:2.0
PRODID:-//ChamberMaster//Event Calendar 2.0//EN
METHOD:PUBLISH
X-PUBLISHED-TTL:P3D
REFRESH-INTERVAL:P3D
CALSCALE:GREGORIAN
BEGIN:VEVENT
DTSTART:20180307T123000Z
DTEND:20180308T030000Z
X-MICROSOFT-CDO-ALLDAYEVENT:FALSE
SUMMARY:Philadelphia Flower Show Bus Trip 2018
DESCRIPTION:The PHS Philadelphia Flower Show is the nation's largest and longest-running horticultural event and features stunning displays by the world's premier floral and landscape designers.\n\n \n\nThis year's show\, "Wonders of Water\," will allow guests to experience a sea of color and explore the extraordinary\, essential and life-giving beauty of water. Colorful water-loving blooms\, dancing fountains and falling waters will be sure to enchant! \n\n\n\nIn addition to the major garden displays\, the Flower Show hosts world-renowned competitions in horticulture and artistic floral arranging\, gardening presentations and demonstrations\, special events\, a mammoth indoor marketplace\, and the city-wide Bloom Philly celebration.\n\n\n\n\n\nShow hours are from 10am  -9pm. For more information on the Philadelphia Flower Show\, click here.
X-ALT-DESC;FMTTYPE=text/html:The PHS Philadelphia Flower Show is the nation&#39\;s largest and longest-running horticultural event and features stunning displays by the world&#39\;s&nbsp\;premier floral and landscape designers.<br />\n&nbsp\;<br />\nThis year&#39\;s show\, &quot\;Wonders of Water\,&quot\; will allow guests to experience a sea of color and explore the extraordinary\, essential and life-giving beauty of water. Colorful water-loving blooms\, dancing fountains and falling waters will be sure to enchant!&nbsp\;<br />\n<br />\nIn addition to the major garden displays\, the Flower Show hosts world-renowned competitions in horticulture and artistic&nbsp\;floral arranging\, gardening presentations and demonstrations\, special events\, a mammoth indoor marketplace\, and the city-wide Bloom Philly celebration.<br />\n<br />\n<br />\nShow hours are from 10am&nbsp\;&nbsp\;-9pm. For more information on the Philadelphia Flower Show\, <a href="http://theflowershow.com/about">click here.</a>
LOCATION:Bus will depart from the Walmart parking lot\, 610 Legion Road\, Denton\, at 7:30 am sharp and will drop off at the Pennsylvania Convention Center in Philadelphia.
UID:e.1366.826
SEQUENCE:3
DTSTAMP:20260425T024029Z
URL:https://business.carolinechamber.org/events/details/philadelphia-flower-show-bus-trip-2018-826
END:VEVENT

END:VCALENDAR
