BEGIN:VCALENDAR
VERSION:2.0
PRODID:-//ChamberMaster//Event Calendar 2.0//EN
METHOD:PUBLISH
X-PUBLISHED-TTL:P3D
REFRESH-INTERVAL:P3D
CALSCALE:GREGORIAN
BEGIN:VEVENT
DTSTART:20170325T170000Z
DTEND:20170325T200000Z
X-MICROSOFT-CDO-ALLDAYEVENT:FALSE
SUMMARY:Photo Editing on your iPad and iPhone
DESCRIPTION:Have you ever taken a photo with your iPhone that could use some improvement? Join Karen Klinedinst and learn how to edit\, fine-tune and perfect your photos directly on your iPhone and/or iPad. Bring images on your iPhone or iPad to the workshop that you'd like to edit. \n\n\n\nPrerequisite: A working knowledge of your iPhone 6 and/or iPad 2 or later. A list of iOS apps will be emailed to you prior to the workshop.\n\n\n\nKaren Klinedinst is a landscape photographer and graphic designer from Baltimore. She graduated with a BFA from the Maryland Institute College of Art (MICA). Since 2011\, she has been using her iPhone exclusively to photograph and express the landscape. Her landscape iPhoneography has been exhibited regionally and nationally\, including: Massoni Art Gallery\, Adkins Arboretum\, Chestertown RiverArts Gallery\, Maryland Art Place\, Soho Photo Gallery\, The Center for Fine Art Photography and the Biggs Museum of American Art. Visit her website at karenklinedinst.com.
X-ALT-DESC;FMTTYPE=text/html:<span style="color: rgb(59\, 56\, 56)\; font-family: Lato\, &quot\;Arial sans-serif&quot\;\; font-size: 14px\;">Have you ever taken a photo with your iPhone that could use some improvement? Join&nbsp\;</span><span style="box-sizing: border-box\; font-weight: 700\; color: rgb(59\, 56\, 56)\; font-family: Lato\, &quot\;Arial sans-serif&quot\;\; font-size: 14px\;">Karen Klinedinst&nbsp\;</span><span style="color: rgb(59\, 56\, 56)\; font-family: Lato\, &quot\;Arial sans-serif&quot\;\; font-size: 14px\;">and learn how to edit\, fine-tune and perfect your photos directly on your iPhone and/or iPad. Bring images on your iPhone or iPad to the workshop that you&rsquo\;d like to edit.&nbsp\;</span><br style="box-sizing: border-box\; color: rgb(59\, 56\, 56)\; font-family: Lato\, &quot\;Arial sans-serif&quot\;\; font-size: 14px\;" />\n<br style="box-sizing: border-box\; color: rgb(59\, 56\, 56)\; font-family: Lato\, &quot\;Arial sans-serif&quot\;\; font-size: 14px\;" />\n<span style="box-sizing: border-box\; font-weight: 700\; color: rgb(59\, 56\, 56)\; font-family: Lato\, &quot\;Arial sans-serif&quot\;\; font-size: 14px\;">Prerequisite: A working knowledge of your iPhone 6 and/or iPad 2 or later. A list of iOS apps will be emailed to you prior to the workshop.</span><br style="box-sizing: border-box\;" />\n<br style="box-sizing: border-box\;" />\n<span style="color: rgb(59\, 56\, 56)\; font-family: Lato\, &quot\;Arial sans-serif&quot\;\; font-size: 14px\;">Karen Klinedinst is a landscape photographer and graphic designer from Baltimore. She graduated with a BFA from the Maryland Institute College of Art (MICA). Since 2011\, she has been using her iPhone exclusively to photograph and express the landscape. Her landscape iPhoneography has been exhibited regionally and nationally\, including: Massoni Art Gallery\, Adkins Arboretum\, Chestertown RiverArts Gallery\, Maryland Art Place\, Soho Photo Gallery\, The Center for Fine Art Photography and the Biggs Museum of American Art. Visit her website at&nbsp\;</span><a href="http://www.karenklinedinst.com/" style="box-sizing: border-box\; color: rgb(222\, 118\, 20)\; text-decoration: none\; font-family: Lato\, &quot\;Arial sans-serif&quot\;\; font-size: 14px\;">karenklinedinst.com</a><span style="color: rgb(59\, 56\, 56)\; font-family: Lato\, &quot\;Arial sans-serif&quot\;\; font-size: 14px\;">.</span>
LOCATION:Adkins Aboretum
UID:e.1366.669
SEQUENCE:3
DTSTAMP:20260425T201157Z
URL:https://business.carolinechamber.org/events/details/photo-editing-on-your-ipad-and-iphone-669
END:VEVENT

END:VCALENDAR
