BEGIN:VCALENDAR
VERSION:2.0
PRODID:-//ChamberMaster//Event Calendar 2.0//EN
METHOD:PUBLISH
X-PUBLISHED-TTL:P3D
REFRESH-INTERVAL:P3D
CALSCALE:GREGORIAN
BEGIN:VEVENT
DTSTART:20201026T210000Z
DTEND:20201026T230000Z
X-MICROSOFT-CDO-ALLDAYEVENT:FALSE
SUMMARY:Pup-Kins and Cans
DESCRIPTION:Lions and Puppies and Bears\, oh my! Celebrate Howl'oween with Paws for Purple Hearts with a socially distant Food Drive. On Monday\, October 26\, 2020\, from 5:00 pm - 7:00 pm\, drive by our facility to see our dogs decked out in their Howl'oween best. Our pup-kins and howling ghouls will greet you when you drop off non-perishable goods for our Veterans. We'll even have a trick or treat for you!
X-ALT-DESC;FMTTYPE=text/html:Lions and Puppies and Bears\, oh my! Celebrate Howl&#39\;oween with Paws for Purple Hearts with a socially distant Food Drive. On Monday\, October 26\, 2020\, from 5:00 pm - 7:00 pm\, drive by our facility to see our dogs decked out in their Howl&#39\;oween best. Our pup-kins and howling ghouls will greet you when you drop off non-perishable goods for our Veterans. We&#39\;ll even have a trick or treat for you!
LOCATION:7404 Commerce Way\, Ruther Glen\, VA. 22546
UID:e.1366.3695
SEQUENCE:3
DTSTAMP:20260421T080456Z
URL:https://business.carolinechamber.org/events/details/pup-kins-and-cans-3695
END:VEVENT

END:VCALENDAR
