BEGIN:VCALENDAR
VERSION:2.0
PRODID:-//ChamberMaster//Event Calendar 2.0//EN
METHOD:PUBLISH
X-PUBLISHED-TTL:P3D
REFRESH-INTERVAL:P3D
CALSCALE:GREGORIAN
BEGIN:VEVENT
DTSTART:20191204T213000Z
DTEND:20191204T230000Z
X-MICROSOFT-CDO-ALLDAYEVENT:FALSE
SUMMARY:Purple Peake Ribbon Cutting
DESCRIPTION:Join the Caroline Chamber of Commerce for the Ribbon Cutting/Grand Opening of our newest member Purple Peake! An RSVP would be greatly appreciated! Light refreshments and Q?A
X-ALT-DESC;FMTTYPE=text/html:Join the Caroline Chamber of Commerce for the Ribbon Cutting/Grand Opening of our newest member Purple Peake! An RSVP would be greatly appreciated! Light refreshments and Q?A
LOCATION:322 Market Street Suite 101 Denton\, MD 21629
UID:e.1366.3579
SEQUENCE:3
DTSTAMP:20260423T220315Z
URL:https://business.carolinechamber.org/events/details/purple-peake-ribbon-cutting-3579
END:VEVENT

END:VCALENDAR
