BEGIN:VCALENDAR
VERSION:2.0
PRODID:-//ChamberMaster//Event Calendar 2.0//EN
METHOD:PUBLISH
X-PUBLISHED-TTL:P3D
REFRESH-INTERVAL:P3D
CALSCALE:GREGORIAN
BEGIN:VEVENT
DTSTART:20161006T203000Z
DTEND:20161006T223000Z
X-MICROSOFT-CDO-ALLDAYEVENT:FALSE
SUMMARY:Ribbon Cutting for Brent Fuchs - Heritage Financial\, LLC Preston Office
DESCRIPTION:Please join us to celebrate the new office location of Brent Fuchs - Heritage Financial\, LLC's new Preston Office! \n\n\n\nLight refreshments will be served.
X-ALT-DESC;FMTTYPE=text/html:<div style="margin: 0px\; padding: 0px\; color: rgb(0\, 26\, 129)\; background-color: rgb(255\, 255\, 255)\;"><font face="arial"><span style="font-size: 14px\; line-height: 22.3999996185303px\;">Please join us&nbsp\;</span></font><span style="font-size: 14px\; font-family: arial\; line-height: 16.4133319854736px\; text-align: center\;">to celebrate the new office location&nbsp\;of Brent Fuchs&nbsp\;- Heritage Financial\, LLC&#39\;s new Preston Office!</span><span style="font-size: 14px\; font-family: arial\; line-height: 16.4133319854736px\; text-align: center\;">&nbsp\;<br />\n<br />\nLight refreshments&nbsp\;will be served.</span></div>\n<br />\n&nbsp\;
LOCATION:147 Main Street Preston\, MD 21655
UID:e.1366.610
SEQUENCE:3
DTSTAMP:20260426T033152Z
URL:https://business.carolinechamber.org/events/details/ribbon-cutting-for-brent-fuchs-heritage-financial-llc-preston-office-610
END:VEVENT

END:VCALENDAR
