BEGIN:VCALENDAR
VERSION:2.0
PRODID:-//ChamberMaster//Event Calendar 2.0//EN
METHOD:PUBLISH
X-PUBLISHED-TTL:P3D
REFRESH-INTERVAL:P3D
CALSCALE:GREGORIAN
BEGIN:VEVENT
DTSTART:20161013T150000Z
DTEND:20161013T150000Z
X-MICROSOFT-CDO-ALLDAYEVENT:FALSE
SUMMARY:Ribbon Cutting for Shore Gourmet
DESCRIPTION:Join us and Maryland State Comptroller Peter Franchot to celebrate the grand opening of Shore Gourmet at the Chesapeake Culinary Center in Denton.
X-ALT-DESC;FMTTYPE=text/html:Join us and Maryland State Comptroller Peter Franchot to celebrate the grand opening of Shore Gourmet at the Chesapeake Culinary Center&nbsp\;in Denton.&nbsp\;
LOCATION:Chesapeake Culinary Center 512 Franklin Street\, First Floor Denton\, MD 21629
UID:e.1366.624
SEQUENCE:3
DTSTAMP:20260426T033011Z
URL:https://business.carolinechamber.org/events/details/ribbon-cutting-for-shore-gourmet-624
END:VEVENT

END:VCALENDAR
