BEGIN:VCALENDAR
VERSION:2.0
PRODID:-//ChamberMaster//Event Calendar 2.0//EN
METHOD:PUBLISH
X-PUBLISHED-TTL:P3D
REFRESH-INTERVAL:P3D
CALSCALE:GREGORIAN
BEGIN:VEVENT
DTSTART:20190922T130000Z
DTEND:20190922T200000Z
X-MICROSOFT-CDO-ALLDAYEVENT:FALSE
SUMMARY:Ridgely Car Show
DESCRIPTION:Head to Ridgely for the most action-packed car show on the Shore. This year's event will feature autographs by "the King" Richard Petty\, fire truck rides\, silent and live auctions\, the Mopar 1 Monster Truck\, ponies\, train displays\, a 50/50 raffle\, face painting and more! The Ridgely Car Show accepts all years\, makes & models of cars\, trucks and motorcycles in dozens of classes. Proceeds from the show benefits The Petty Family Foundation. FREE!
X-ALT-DESC;FMTTYPE=text/html:<span style="color: rgb(32\, 32\, 32)\; font-family: Arial\, &quot\;Helvetica Neue&quot\;\, Helvetica\, sans-serif\; font-size: 15px\; background-color: rgb(255\, 255\, 255)\;">Head to Ridgely for the most action-packed car show on the Shore. This year&#39\;s event will feature autographs by &quot\;the King&quot\; Richard Petty\, fire truck rides\, silent and live auctions\, the Mopar 1 Monster Truck\, ponies\, train displays\, a 50/50 raffle\, face painting and more! The Ridgely Car Show accepts all years\, makes &amp\; models of cars\, trucks and motorcycles in dozens of classes. Proceeds from the show benefits The Petty Family Foundation.&nbsp\;</span><span style="font-family: Arial\, &quot\;Helvetica Neue&quot\;\, Helvetica\, sans-serif\; font-size: 15px\; background-color: rgb(255\, 255\, 255)\; color: rgb(218\, 165\, 32)\;"><span style="font-size: 16px\;"><strong>FREE!</strong></span></span>
LOCATION:
UID:e.1366.2518
SEQUENCE:3
DTSTAMP:20260424T022348Z
URL:https://business.carolinechamber.org/events/details/ridgely-car-show-2518
END:VEVENT

END:VCALENDAR
