BEGIN:VCALENDAR
VERSION:2.0
PRODID:-//ChamberMaster//Event Calendar 2.0//EN
METHOD:PUBLISH
X-PUBLISHED-TTL:P3D
REFRESH-INTERVAL:P3D
CALSCALE:GREGORIAN
BEGIN:VEVENT
DTSTART:20191207T234500Z
DTEND:20191208T004500Z
X-MICROSOFT-CDO-ALLDAYEVENT:FALSE
SUMMARY:Ridgely Old Fashioned Christmas and Open House
DESCRIPTION:Lion's Club Parade begins at Martin Sutton Park (4th & Park Street) and ends at the restored railroad station (W. Railroad Ave.) where you are invited in for light refreshments and a visit with Santa. Bring your camera for photos with Santa.
X-ALT-DESC;FMTTYPE=text/html:Lion&#39\;s Club Parade begins at Martin Sutton Park (4th &amp\; Park Street) and ends at the restored railroad station (W. Railroad Ave.) where you are invited in for light refreshments and a visit with Santa. Bring your camera for photos with Santa.
LOCATION:Central Ave\, Downtown Ridgely
UID:e.1366.3574
SEQUENCE:3
DTSTAMP:20260423T220518Z
URL:https://business.carolinechamber.org/events/details/ridgely-old-fashioned-christmas-and-open-house-3574
END:VEVENT

END:VCALENDAR
