BEGIN:VCALENDAR
VERSION:2.0
PRODID:-//ChamberMaster//Event Calendar 2.0//EN
METHOD:PUBLISH
X-PUBLISHED-TTL:P3D
REFRESH-INTERVAL:P3D
CALSCALE:GREGORIAN
BEGIN:VEVENT
DTSTART:20200801T130000Z
DTEND:20200801T200000Z
X-MICROSOFT-CDO-ALLDAYEVENT:FALSE
SUMMARY:Safe Sitter® Class Set for August 1 in Easton
DESCRIPTION:Safe Sitter  Class Set for August 1 in Easton\n\n \n\nThe popular Safe Sitter  class\, taught by pediatric nurses for youth ages 11-13\, will be offered on Saturday\, August 1\, 9 a.m.to 4 p.m. at UM Shore Medical Center at Easton Health Education Center. \n\n \n\nSafe Sitter  is a national\, non-profit organization that provides programs to teach youth life and safety skills for when they are home alone\, watching younger siblings\, or babysitting. Over 175 lives have been saved by Safe Sitter  graduates using the skills learned through the Safe Sitter  training. More information about the program may be found at www.safesitter.org.\n\n \n\nThe cost for this one-day class is $50\; some scholarships are available. Because seating is limited\, advance registration is required. There is an additional Saturday class opportunity this year on November 7. For more information or to register\, call Gladys Peeples\, 410-810-5664.
X-ALT-DESC;FMTTYPE=text/html:<strong><span style="font-family:times new roman\,serif\;"><span style="font-size:12.0pt\;">Safe Sitter&reg\; Class Set for August 1 in Easton</span></span></strong><br />\n&nbsp\;<br />\n<span style="font-family:times new roman\,serif\;"><span style="font-size:12.0pt\;">The popular Safe Sitter&reg\; class\, taught by pediatric nurses for youth ages 11-13\, will be offered on Saturday\, August 1\, 9 a.m.to 4 p.m. at UM Shore Medical Center at Easton Health Education Center. </span></span><br />\n&nbsp\;<br />\n<span style="font-family:times new roman\,serif\;"><span style="font-size:12.0pt\;">Safe Sitter&reg\; is a national\, non-profit organization that provides programs to teach youth life and safety skills for when they are home alone\, watching younger siblings\, or babysitting. Over 175 lives have been saved by Safe Sitter&reg\; graduates using the skills learned through the Safe Sitter&reg\; training. More information about the program may be found at </span></span><a href="http://www.safesitter.org/"><span style="font-family:times new roman\,serif\;"><span style="font-size:12.0pt\;">www.safesitter.org</span></span></a><span style="font-family:times new roman\,serif\;"><span style="font-size:12.0pt\;">.</span></span><br />\n&nbsp\;<br />\n<span style="font-family:times new roman\,serif\;"><span style="font-size:12.0pt\;">The cost for this one-day class is $50\; some scholarships are available. Because seating is limited\, advance registration is required. There is an additional Saturday class opportunity this year on November 7. For more information or to register\, call Gladys Peeples\, 410-810-5664.</span></span>
LOCATION:
UID:e.1366.3650
SEQUENCE:3
DTSTAMP:20260421T095637Z
URL:https://business.carolinechamber.org/events/details/safe-sitter-class-set-for-august-1-in-easton-3650
END:VEVENT

END:VCALENDAR
