BEGIN:VCALENDAR
VERSION:2.0
PRODID:-//ChamberMaster//Event Calendar 2.0//EN
METHOD:PUBLISH
X-PUBLISHED-TTL:P3D
REFRESH-INTERVAL:P3D
CALSCALE:GREGORIAN
BEGIN:VEVENT
DTSTART:20191206T224500Z
DTEND:20191207T014500Z
X-MICROSOFT-CDO-ALLDAYEVENT:FALSE
SUMMARY:Santa Chase
DESCRIPTION:This 6th Annual Santa Chase is a 2- Mile Walk\, Run\, or Jog with holiday\n\nmagic! Candle luminaries and Christmas lights mark the park-based trail.\n\nSpecial family of 4 discounts\, dog friendly walk or run\, and a costume\n\nchallenge judged by Santa himself (dog reindeers included)! Chase is Friday\,\n\nDecember 6. Registration is 5:45 - 6:55 p.m. and the race starts at 7 p.m.\n\nat Martinak State Park. Produced in partnership with Lions International\n\nClubs from the Mid-Shore. Proceeds benefit Lion's Club Vision Charities.\n\n$15 per person through November 29\n\n$20 per person if paid after November 29\n\n$50 for group of 4\n\n$20 Participant with dog
X-ALT-DESC;FMTTYPE=text/html:<span style="font-size:16px\;"><span style="font-family:times new roman\;"><span style="background-color: rgb(255\, 255\, 255)\;">This 6th Annual Santa Chase is a 2- Mile Walk\, Run\, or Jog with holiday</span><br style="font-family: monospace\; font-size: 12.09px\; background-color: rgb(255\, 255\, 255)\;" />\n<span style="background-color: rgb(255\, 255\, 255)\;">magic! Candle luminaries and Christmas lights mark the park-based trail.</span><br style="font-family: monospace\; font-size: 12.09px\; background-color: rgb(255\, 255\, 255)\;" />\n<span style="background-color: rgb(255\, 255\, 255)\;">Special family of 4 discounts\, dog friendly walk or run\, and a costume</span><br style="font-family: monospace\; font-size: 12.09px\; background-color: rgb(255\, 255\, 255)\;" />\n<span style="background-color: rgb(255\, 255\, 255)\;">challenge judged by Santa himself (dog reindeers included)! Chase is Friday\,</span><br style="font-family: monospace\; font-size: 12.09px\; background-color: rgb(255\, 255\, 255)\;" />\n<span style="background-color: rgb(255\, 255\, 255)\;">December 6. Registration is 5:45 - 6:55 p.m. and the race starts at 7 p.m.</span><br style="font-family: monospace\; font-size: 12.09px\; background-color: rgb(255\, 255\, 255)\;" />\n<span style="background-color: rgb(255\, 255\, 255)\;">at Martinak State Park. Produced in partnership with Lions International</span><br style="font-family: monospace\; font-size: 12.09px\; background-color: rgb(255\, 255\, 255)\;" />\n<span style="background-color: rgb(255\, 255\, 255)\;">Clubs from the Mid-Shore. Proceeds benefit Lion&#39\;s Club Vision Charities.</span><br style="font-family: monospace\; font-size: 12.09px\; background-color: rgb(255\, 255\, 255)\;" />\n<span style="background-color: rgb(255\, 255\, 255)\;">$15 per person through November 29</span><br style="font-family: monospace\; font-size: 12.09px\; background-color: rgb(255\, 255\, 255)\;" />\n<span style="background-color: rgb(255\, 255\, 255)\;">$20 per person if paid after November 29</span><br style="font-family: monospace\; font-size: 12.09px\; background-color: rgb(255\, 255\, 255)\;" />\n<span style="background-color: rgb(255\, 255\, 255)\;">$50 for group of 4</span><br style="font-family: monospace\; font-size: 12.09px\; background-color: rgb(255\, 255\, 255)\;" />\n<span style="background-color: rgb(255\, 255\, 255)\;">$20 Participant with dog</span></span></span><br />\n<br />\n<br />\n<br />\n&nbsp\;
LOCATION:
UID:e.1366.3567
SEQUENCE:3
DTSTAMP:20260423T233233Z
URL:https://business.carolinechamber.org/events/details/santa-chase-3567
END:VEVENT

END:VCALENDAR
