BEGIN:VCALENDAR
VERSION:2.0
PRODID:-//ChamberMaster//Event Calendar 2.0//EN
METHOD:PUBLISH
X-PUBLISHED-TTL:P3D
REFRESH-INTERVAL:P3D
CALSCALE:GREGORIAN
BEGIN:VEVENT
DTSTART:20181215T210000Z
DTEND:20181216T000000Z
X-MICROSOFT-CDO-ALLDAYEVENT:FALSE
SUMMARY:Santa's Magic Workshop
DESCRIPTION:Santa's Magic Workshop gives kids a chance to make their own Christmas ornaments.  Other activities include a train display\, festive lights\, seasonal music\, hayrides\, refreshments and Santa will be on hand to hear your special wishes.  Festivities will take place at Martinak State Park at the Nature Center and the Log Cabin on Saturday\, December 8 from 4-7 p.m.\, Friday\, December 14 from 5-8 p.m.\, and Saturday\, December 15 from 4   7 p.m.  Admission is 2 canned goods per person donated to local food pantries.  For more information\, call Recreation & Parks at 410-479-8120.
X-ALT-DESC;FMTTYPE=text/html:<span style="font-family:times new roman"><strong><span style="font-size:10pt">Santa&rsquo\;s Magic Workshop</span></strong><span style="font-size:10pt"> gives kids a chance to make their own Christmas ornaments.&nbsp\; Other activities include a train display\, festive lights\, seasonal music\, hayrides\, refreshments and Santa will be on hand to hear your special wishes.&nbsp\; Festivities will take place at Martinak State Park at the Nature Center and the Log Cabin on Saturday\, December&nbsp\;8 from 4-7 p.m.\, Friday\, December 14 from 5-8 p.m.\, and Saturday\, December 15 from 4 &ndash\; 7 p.m.&nbsp\; Admission is 2 canned goods per person donated to local food pantries.&nbsp\;<span style="font-size:12px"> </span></span></span><span style="font-size:12px">For more information\, call Recreation &amp\; Parks at 410-479-8120.</span><br />\n&nbsp\;
LOCATION:Martinak State Park Nature Center
UID:e.1366.2045
SEQUENCE:3
DTSTAMP:20260424T135607Z
URL:https://business.carolinechamber.org/events/details/santa-s-magic-workshop-12-15-2018-2045
END:VEVENT

END:VCALENDAR
