BEGIN:VCALENDAR
VERSION:2.0
PRODID:-//ChamberMaster//Event Calendar 2.0//EN
METHOD:PUBLISH
X-PUBLISHED-TTL:P3D
REFRESH-INTERVAL:P3D
CALSCALE:GREGORIAN
BEGIN:VEVENT
DTSTART:20190209T190000Z
DTEND:20190209T210000Z
X-MICROSOFT-CDO-ALLDAYEVENT:FALSE
SUMMARY:Second Saturday at the Artsway
DESCRIPTION:Second Saturday at the Artsway in Denton features live artist demonstrations and art activities. This month's activity will be led by local Artist Dawn Malosh. Attendees will help sculpt or glaze hearts for her public art sculpture "Clearly Loved Waterways." Come make history and be a part of this cool public art project.
X-ALT-DESC;FMTTYPE=text/html:<span style="color: rgb(32\, 32\, 32)\; font-family: Arial\, sans-serif\; font-size: 15.3333px\; background-color: rgb(255\, 255\, 255)\;">Second Saturday at the Artsway in Denton features live artist demonstrations and art activities. This month&#39\;s activity will be led by local Artist Dawn Malosh. Attendees will&nbsp\;help sculpt or glaze&nbsp\;hearts for her public art sculpture &ldquo\;Clearly Loved Waterways.&rdquo\; Come make history and be a part of this cool public art project.</span>
LOCATION:The Foundry 410 Market Street Denton\, MD 21629
UID:e.1366.2077
SEQUENCE:3
DTSTAMP:20260424T123937Z
URL:https://business.carolinechamber.org/events/details/second-saturday-at-the-artsway-2077
END:VEVENT

END:VCALENDAR
