BEGIN:VCALENDAR
VERSION:2.0
PRODID:-//ChamberMaster//Event Calendar 2.0//EN
METHOD:PUBLISH
X-PUBLISHED-TTL:P3D
REFRESH-INTERVAL:P3D
CALSCALE:GREGORIAN
BEGIN:VEVENT
DTSTART:20210303T130000Z
DTEND:20210303T143000Z
X-MICROSOFT-CDO-ALLDAYEVENT:FALSE
SUMMARY:Small Business Academy -Class 1- Building a Plan for Success Vision\, Alignment\, Execution a Plan for Success
DESCRIPTION:Building a Plan for Success\n\nVision\, Alignment\, Execution\n\n\n\nParticipants will begin the process of building a plan to move their business from its current state towards a desired state. Using the model of Vision\, Alignment\, Execution to create the path\, owners will set objectives and goals\, while identifying the steps and skills needed to implement their plan successfully. Patrick Lee will guide participants through personal learning\, goal setting\, and group interactions to create a framework for understanding what must be accomplished in order to overcome the status quo. The concept of the Great Small Business Plateau will be explained and business owners will understand their business inhibitor(s). This session will lay the groundwork for all future sessions of the Small Business Academy.\n\n\n\nGuest Speaker:\n\nPatrick Lee\, Jr. Partner & President of Chesapeake Think Tank\, LLC & CEO of Spark Business Institute
X-ALT-DESC;FMTTYPE=text/html:<p style="margin-bottom: 0in\; line-height: 100%"><font color="#000000"><font face="Helvetica Neue\, serif"><font size="2" style="font-size: 11pt">Building a Plan for Success</font></font></font></p>\n\n<p style="margin-bottom: 0in\; line-height: 100%"><font color="#000000"><font face="Helvetica Neue\, serif"><font size="2" style="font-size: 11pt">Vision\, Alignment\, Execution</font></font></font></p>\n\n<p style="margin-bottom: 0in\; line-height: 100%"><br />\n<font color="#000000"><font face="Helvetica Neue\, serif"><font size="2" style="font-size: 11pt">Participants will begin the process of building a plan to move their business from its current state towards a desired state. Using the model of Vision\, Alignment\, Execution to create the path\, owners will set objectives and goals\, while identifying the steps and skills needed to implement their plan successfully. Patrick Lee will guide participants through personal learning\, goal setting\, and group interactions to create a framework for understanding what must be accomplished in order to overcome the status quo. The concept of the Great Small Business Plateau will be explained and business owners will understand their business inhibitor(s). This session will lay the groundwork for all future sessions of the Small Business Academy.</font></font></font><br />\n<br />\n<font color="#000000"><font face="Helvetica Neue\, serif"><font size="2" style="font-size: 11pt">Guest Speaker:<br />\nPatrick Lee\, Jr. Partner &amp\; President of Chesapeake Think Tank\, LLC &amp\; CEO of Spark Business Institute</font></font></font></p>\n\n<p style="margin-bottom: 0in\; line-height: 100%">&nbsp\;</p>\n
LOCATION:Virtual- Register and we will send you the link to this great event! This is a series\, you may join any or all or send different team members/co-workers to enjoy and learn specific topics!
UID:e.1366.3724
SEQUENCE:3
DTSTAMP:20260420T224224Z
URL:https://business.carolinechamber.org/events/details/small-business-academy-class-1-building-a-plan-for-success-vision-alignment-execution-a-plan-for-success-3724
END:VEVENT

END:VCALENDAR
