BEGIN:VCALENDAR
VERSION:2.0
PRODID:-//ChamberMaster//Event Calendar 2.0//EN
METHOD:PUBLISH
X-PUBLISHED-TTL:P3D
REFRESH-INTERVAL:P3D
CALSCALE:GREGORIAN
BEGIN:VEVENT
DTSTART:20210505T120000Z
DTEND:20210505T133000Z
X-MICROSOFT-CDO-ALLDAYEVENT:FALSE
SUMMARY:Small Business Academy Class 3 Digital Marketing
DESCRIPTION:Marketing/ Advertising This class will teach you how to grow your audience in a global marketplace. Digital Marketing helps you to reach more customers while spending less money.  We will teach you how to know your audience\, track responses and your best resources to increase brand loyalty.
X-ALT-DESC;FMTTYPE=text/html:Marketing/ Advertising This class will teach you how to grow your audience in a global marketplace. Digital Marketing helps you to reach more customers while spending less money.&nbsp\; We will teach you how to know your audience\, track responses and your best resources to increase brand loyalty.
LOCATION:Virtual Registration a must Zoom link will be sent to all participants
UID:e.1366.3726
SEQUENCE:3
DTSTAMP:20260420T210440Z
URL:https://business.carolinechamber.org/events/details/small-business-academy-class-3-digital-marketing-3726
END:VEVENT

END:VCALENDAR
