BEGIN:VCALENDAR
VERSION:2.0
PRODID:-//ChamberMaster//Event Calendar 2.0//EN
METHOD:PUBLISH
X-PUBLISHED-TTL:P3D
REFRESH-INTERVAL:P3D
CALSCALE:GREGORIAN
BEGIN:VEVENT
DTSTART:20200203T130000Z
DTEND:20200203T150000Z
X-MICROSOFT-CDO-ALLDAYEVENT:FALSE
SUMMARY:Small Business Academy - Feb 2020
DESCRIPTION:Small Business Academy\n\n \nPlease join the Caroline County Chamber of Commerce for our Small Business Academy!\n\n\n\nDeveloping a Business Plan-  SCORE- February 3\, 2020 We will have networking time\, as well as question and answer time. Coffee and light refreshments. This class will give you a path to run on. Specific things to do as a small business that will help your overall growth thus your success.\n\n \n\nThe Small Business Marketing Academy is an opportunity for small businesses to learn\, share and plan for a growing thriving business. Participants come together one day a month for eight months to learn from local industry experts\, engage in round table discussion for practical advice and best practices\, and develop their own personal marketing/ business plan.\n\n \n\nNot a small business? You can teach one of the subjects listed below or send one of your up and coming team members!\n\n \n\nClasses Include:\n\n1. Developing a Business Plan - SCORE\n\n2. Building your Brand - Gary Diskin\, Senior Business Sales Manager\, Comcast Business - March 2\, 2020\n\n3. Sales- Strategies and skills - H.G. Wilson\, Preston Automotive Team - April 6\, 2020\n\n4. Simple Accounting/ Quick Books - Chuck Ireland\, ASG - May 4\, 2020\n\n5. Business Law - Patrick Thomas\, MacLeod Law Group - June 1\, 2020\n\n6. Business Credit- Loan Preparation - Adam Jones\, Provident State Bank - August 3\, 2020\n\n7. Networking 101 - Nancy LeJoice\, Maryland Commerce - September 1\, 2020\n\n8. Marketing/ Advertising - Angela Visintainer\, Maven & Smith - October 5\, 2020\n\n \n\nScheduled for the first Monday of the month (Except September) from 8:00 AM-10:00 AM they are a great way to kick off your week!\n\n \n\n \n\nRSVP today!
X-ALT-DESC;FMTTYPE=text/html:<span style="font-size:14px\;"><span style="font-family:times new roman\;">Small Business Academy</span></span><br />\n&nbsp\;\n<p style="margin: 0px\; padding: 0px\; font-family: &quot\;times new roman&quot\;\; background-color: rgb(255\, 255\, 255)\; font-size: 10pt\; overflow-wrap: break-word\;"><span style="font-size:14px\;"><span style="font-family:times new roman\;">Please join the Caroline County Chamber of Commerce for our Small Business Academy!</span></span><br />\n<br />\n<strong style="color: rgb(51\, 51\, 51)\; font-family: &quot\;times new roman&quot\;\; font-size: 14px\; background-color: rgb(255\, 255\, 255)\;">Developing a Business Plan-&nbsp\; SCORE- February 3\, 2020&nbsp\;</strong><span style="color: rgb(51\, 51\, 51)\; font-family: &quot\;times new roman&quot\;\; font-size: 14px\; background-color: rgb(255\, 255\, 255)\;">We will have networking time\, as well as question and answer time. Coffee and light refreshments. This class will give you a path to run on. Specific things to do as a small business that will help your overall growth thus your success.</span></p>\n\n<p style="margin: 0px\; padding: 0px\; font-family: &quot\;times new roman&quot\;\; background-color: rgb(255\, 255\, 255)\; font-size: 10pt\; overflow-wrap: break-word\;">&nbsp\;</p>\n\n<p style="margin: 0px\; padding: 0px\; font-family: &quot\;times new roman&quot\;\; background-color: rgb(255\, 255\, 255)\; font-size: 10pt\; overflow-wrap: break-word\;"><span style="font-size:14px\;"><span style="font-family:times new roman\;">The Small Business Marketing Academy is an opportunity for small businesses to learn\, share and plan for a growing thriving business. Participants come together one day a month for&nbsp\;eight months to learn from local industry experts\, engage in round table discussion for practical advice and best practices\, and develop their own personal marketing/ business plan.</span></span></p>\n\n<p style="margin: 0px\; padding: 0px\; font-family: &quot\;times new roman&quot\;\; background-color: rgb(255\, 255\, 255)\; font-size: 10pt\; overflow-wrap: break-word\;">&nbsp\;</p>\n\n<p style="margin: 0px\; padding: 0px\; font-family: &quot\;times new roman&quot\;\; background-color: rgb(255\, 255\, 255)\; font-size: 10pt\; overflow-wrap: break-word\;"><span style="font-size:14px\;"><span style="font-family:times new roman\;">Not a small business? You can teach one of the subjects listed below or send one of your up and coming team members!</span></span></p>\n\n<p style="margin: 0px\; padding: 0px\; font-family: &quot\;times new roman&quot\;\; background-color: rgb(255\, 255\, 255)\; font-size: 10pt\; overflow-wrap: break-word\;">&nbsp\;</p>\n\n<p style="margin: 0px\; padding: 0px\; font-family: &quot\;times new roman&quot\;\; background-color: rgb(255\, 255\, 255)\; font-size: 10pt\; overflow-wrap: break-word\;"><span style="font-size:14px\;"><span style="font-family:times new roman\;">Classes Include:</span></span></p>\n\n<p style="margin: 0px\; padding: 0px\; font-family: &quot\;times new roman&quot\;\; background-color: rgb(255\, 255\, 255)\; font-size: 10pt\; overflow-wrap: break-word\;"><span style="font-size:14px\;"><span style="font-family:times new roman\;">1. Developing a Business&nbsp\;Plan - SCORE</span></span></p>\n\n<p style="margin: 0px\; padding: 0px\; font-family: &quot\;times new roman&quot\;\; background-color: rgb(255\, 255\, 255)\; font-size: 10pt\; overflow-wrap: break-word\;"><span style="font-size:14px\;"><span style="font-family:times new roman\;">2. </span></span><span style="font-size:14px\;"><span style="font-family:times new roman\;">Building your Brand - Gary Diskin\, Senior Business Sales Manager\, Comcast Business - March 2\, 2020</span></span></p>\n\n<p style="margin: 0px\; padding: 0px\; font-family: &quot\;times new roman&quot\;\; background-color: rgb(255\, 255\, 255)\; font-size: 10pt\; overflow-wrap: break-word\;"><span style="font-size:14px\;"><span style="font-family:times new roman\;">3.&nbsp\;</span></span><span style="color: rgb(51\, 51\, 51)\; font-family: &quot\;times new roman&quot\;\; font-size: 14px\; background-color: rgb(255\, 255\, 255)\;">Sales- Strategies and skills - H.G. Wilson\,&nbsp\;Preston Automotive Team - April 6\, 2020</span></p>\n\n<p style="margin: 0px\; padding: 0px\; font-family: &quot\;times new roman&quot\;\; background-color: rgb(255\, 255\, 255)\; font-size: 10pt\; overflow-wrap: break-word\;"><span style="font-size:14px\;"><span style="font-family:times new roman\;">4.&nbsp\;</span></span><span style="color: rgb(51\, 51\, 51)\; font-family: &quot\;times new roman&quot\;\; font-size: 14px\; background-color: rgb(255\, 255\, 255)\;">Simple Accounting/ Quick Books</span><span style="font-size:14px\;"><span style="font-family:times new roman\;">&nbsp\;- Chuck Ireland\, ASG - May 4\, 2020</span></span></p>\n\n<p style="margin: 0px\; padding: 0px\; font-family: &quot\;times new roman&quot\;\; background-color: rgb(255\, 255\, 255)\; font-size: 10pt\; overflow-wrap: break-word\;"><span style="font-size:14px\;"><span style="font-family:times new roman\;">5.&nbsp\;</span></span><span style="color: rgb(51\, 51\, 51)\; font-family: &quot\;times new roman&quot\;\; font-size: 14px\; background-color: rgb(255\, 255\, 255)\;">Business Law - Patrick Thomas\, MacLeod Law Group - June 1\, 2020</span></p>\n\n<p style="margin: 0px\; padding: 0px\; font-family: &quot\;times new roman&quot\;\; background-color: rgb(255\, 255\, 255)\; font-size: 10pt\; overflow-wrap: break-word\;"><span style="font-size:14px\;"><span style="font-family:times new roman\;">6.&nbsp\;</span></span><span style="color: rgb(51\, 51\, 51)\; font-family: &quot\;times new roman&quot\;\; font-size: 14px\; background-color: rgb(255\, 255\, 255)\;">Business Credit- Loan Preparation - Adam Jones\, Provident State Bank - August 3\, 2020</span></p>\n\n<p style="margin: 0px\; padding: 0px\; font-family: &quot\;times new roman&quot\;\; background-color: rgb(255\, 255\, 255)\; font-size: 10pt\; overflow-wrap: break-word\;"><span style="font-size:14px\;"><span style="font-family:times new roman\;">7.&nbsp\;</span></span><span style="color: rgb(51\, 51\, 51)\; font-family: &quot\;times new roman&quot\;\; font-size: 14px\; background-color: rgb(255\, 255\, 255)\;">Networking 101</span><span style="font-size:14px\;"><span style="font-family:times new roman\;">&nbsp\;- Nancy LeJoice\, Maryland Commerce - September 1\, 2020</span></span></p>\n\n<p style="margin: 0px\; padding: 0px\; font-family: &quot\;times new roman&quot\;\; background-color: rgb(255\, 255\, 255)\; font-size: 10pt\; overflow-wrap: break-word\;"><span style="font-size:14px\;"><span style="font-family:times new roman\;">8. Marketing/ Advertising - Angela Visintainer\, Maven &amp\; Smith - October 5\, 2020</span></span></p>\n\n<p style="margin: 0px\; padding: 0px\; font-family: &quot\;times new roman&quot\;\; background-color: rgb(255\, 255\, 255)\; font-size: 10pt\; overflow-wrap: break-word\;">&nbsp\;</p>\n\n<p style="margin: 0px\; padding: 0px\; font-family: &quot\;times new roman&quot\;\; background-color: rgb(255\, 255\, 255)\; font-size: 10pt\; overflow-wrap: break-word\;"><span style="font-size:14px\;"><span style="font-family:times new roman\;">Scheduled for the first Monday of the month (Except September) from 8:00 AM-10:00 AM they are a great way to kick off your week!</span></span></p>\n\n<p style="margin: 0px\; padding: 0px\; font-family: &quot\;times new roman&quot\;\; background-color: rgb(255\, 255\, 255)\; font-size: 10pt\; overflow-wrap: break-word\;">&nbsp\;</p>\n\n<p style="margin: 0px\; padding: 0px\; font-family: &quot\;times new roman&quot\;\; background-color: rgb(255\, 255\, 255)\; font-size: 10pt\; overflow-wrap: break-word\;">&nbsp\;</p>\n\n<p style="margin: 0px\; padding: 0px\; font-family: &quot\;times new roman&quot\;\; background-color: rgb(255\, 255\, 255)\; font-size: 10pt\; overflow-wrap: break-word\;"><span style="font-size:14px\;"><span style="font-family:times new roman\;">RSVP today!</span></span></p>\n
LOCATION:Large Conference Room - Chamber Office 9194 Legion Road Denton\, MD
UID:e.1366.3595
SEQUENCE:3
DTSTAMP:20260423T190445Z
URL:https://business.carolinechamber.org/events/details/small-business-academy-feb-2020-3595
END:VEVENT

END:VCALENDAR
