BEGIN:VCALENDAR
VERSION:2.0
PRODID:-//ChamberMaster//Event Calendar 2.0//EN
METHOD:PUBLISH
X-PUBLISHED-TTL:P3D
REFRESH-INTERVAL:P3D
CALSCALE:GREGORIAN
BEGIN:VEVENT
DTSTART:20200601T130000Z
DTEND:20200601T150000Z
X-MICROSOFT-CDO-ALLDAYEVENT:FALSE
SUMMARY:Small Business Academy - June 2020
DESCRIPTION:Small Business Academy\n\n \n\nPlease join the Caroline County Chamber of Commerce for our Small Business Academy!\n\n \n\nBusiness Law- Patrick Thomas/ MacLeod Law Group  June 1\, 2020\n\nThis class will provide an overview of the forms of business you might wish to consider choosing for your business\, including sole proprietorships\, corporations\, and limited liability companies." We will conduct it via ZOOM -once registered we will send out the Meeting ID and Password.\n\n\n \n\n\nThe Small Business Marketing Academy is an opportunity for small businesses to learn\, share and plan for a growing thriving business. Participants come together one day a month for eight months to learn from local industry experts\, engage in round table discussion for practical advice and best practices\, and develop their own personal marketing/ business plan.\n\n \n\nNot a small business?\n\nYou can teach one of the subjects listed below or send one of your up and coming team members!\n\n \n\nClasses Include:\n\n6. Business Credit- Loan Preparation - Adam Jones\, Provident State Bank - August 3\, 2020\n\n7. Networking 101 - Nancy LeJoice\, Maryland Commerce - September 1\, 2020\n\n8. Marketing/ Advertising - Angela Visintainer\, Maven & Smith - October 5\, 2020\n\n \n\nScheduled for the first Monday of the month (Except September) from 8:00 AM-10:00 AM they are a great way to kick off your week!\n\n \n\n \n\nRSVP today!
X-ALT-DESC;FMTTYPE=text/html:<p background-color:="" font-size:="" margin:="" new="" overflow-wrap:="" padding:="" style="color: rgb(51\, 51\, 51)\; font-family: sans-serif\, Arial\, Verdana\, &quot\;Trebuchet MS&quot\;\; font-size: 13px\;" times="" trebuchet=""><span style="font-size: 14px\;"><span style="font-family: &quot\;times new roman&quot\;\;">Small Business Academy</span></span><br />\n&nbsp\;</p>\n\n<p font-size:="" new="" overflow-wrap:="" style="color: rgb(51\, 51\, 51)\; font-family: sans-serif\, Arial\, Verdana\, &quot\;Trebuchet MS&quot\;\; font-size: 13px\; background-color: rgb(255\, 255\, 255)\; margin: 0px\; padding: 0px\;" times=""><span style="font-size: 14px\;"><span style="font-family: &quot\;times new roman&quot\;\;">Please join the Caroline County Chamber of Commerce for our Small Business Academy!</span></span><br />\n&nbsp\;</p>\n\n<p style="margin: 0in 0in 0.0001pt\; padding: 0px\; font-family: &quot\;times new roman&quot\;\; font-size: small\; background-color: rgb(255\, 255\, 255)\;"><strong style="font-size: 10pt\;"><span style="font-size: 10.5pt\; color: rgb(51\, 51\, 51)\;"><span style="background-color:#FFFFFF\;">Business Law- Patrick Thomas/ MacLeod Law Group&nbsp\;&ndash\;June 1\, 2020</span></span></strong><br />\n<span style="color: rgb(28\, 30\, 33)\; font-family: Helvetica\, Arial\, sans-serif\; font-size: 14px\; white-space: pre-wrap\; background-color: rgb(255\, 255\, 255)\;">This class will provide an overview of the forms of business you might wish to consider choosing for your business\, including sole proprietorships\, corporations\, and limited liability companies.&rdquo\; We will conduct it via ZOOM -once registered we will send out the Meeting ID and Password.</span></p>\n\n<div 0in="" font-size:="" margin:="" style="color: rgb(51\, 51\, 51)\; font-family: sans-serif\, Arial\, Verdana\, &quot\;Trebuchet MS&quot\;\; font-size: 13px\;" trebuchet="">\n<p style="margin: 0in 0in 0.0001pt\; padding: 0px\; font-family: &quot\;times new roman&quot\;\; font-size: small\; background-color: rgb(255\, 255\, 255)\;">&nbsp\;</p>\n</div>\n\n<p font-size:="" new="" overflow-wrap:="" style="color: rgb(51\, 51\, 51)\; font-family: sans-serif\, Arial\, Verdana\, &quot\;Trebuchet MS&quot\;\; font-size: 13px\; background-color: rgb(255\, 255\, 255)\; margin: 0px\; padding: 0px\;" times=""><span style="font-size: 14px\;"><span style="font-family: &quot\;times new roman&quot\;\;">The Small Business Marketing Academy is an opportunity for small businesses to learn\, share and plan for a growing thriving business. Participants come together one day a month for&nbsp\;eight months to learn from local industry experts\, engage in round table discussion for practical advice and best practices\, and develop their own personal marketing/ business plan.</span></span></p>\n\n<p font-size:="" new="" overflow-wrap:="" style="color: rgb(51\, 51\, 51)\; font-family: sans-serif\, Arial\, Verdana\, &quot\;Trebuchet MS&quot\;\; font-size: 13px\; background-color: rgb(255\, 255\, 255)\; margin: 0px\; padding: 0px\;" times="">&nbsp\;</p>\n\n<p font-size:="" new="" overflow-wrap:="" style="color: rgb(51\, 51\, 51)\; font-family: sans-serif\, Arial\, Verdana\, &quot\;Trebuchet MS&quot\;\; font-size: 13px\; background-color: rgb(255\, 255\, 255)\; margin: 0px\; padding: 0px\;" times=""><span style="font-size: 14px\;"><span style="font-family: &quot\;times new roman&quot\;\;">Not a small business?<br />\nYou can teach one of the subjects listed below or send one of your up and coming team members!</span></span></p>\n\n<p font-size:="" new="" overflow-wrap:="" style="color: rgb(51\, 51\, 51)\; font-family: sans-serif\, Arial\, Verdana\, &quot\;Trebuchet MS&quot\;\; font-size: 13px\; background-color: rgb(255\, 255\, 255)\; margin: 0px\; padding: 0px\;" times="">&nbsp\;</p>\n\n<p font-size:="" new="" overflow-wrap:="" style="color: rgb(51\, 51\, 51)\; font-family: sans-serif\, Arial\, Verdana\, &quot\;Trebuchet MS&quot\;\; font-size: 13px\; background-color: rgb(255\, 255\, 255)\; margin: 0px\; padding: 0px\;" times=""><span style="font-size: 14px\;"><span style="font-family: &quot\;times new roman&quot\;\;">Classes Include:</span></span><br />\n<span style="font-family: &quot\;times new roman&quot\;\; font-size: 14px\;">6.&nbsp\;Business Credit- Loan Preparation - Adam Jones\, Provident State Bank - August 3\, 2020</span></p>\n\n<p font-size:="" new="" overflow-wrap:="" style="color: rgb(51\, 51\, 51)\; font-family: sans-serif\, Arial\, Verdana\, &quot\;Trebuchet MS&quot\;\; font-size: 13px\; background-color: rgb(255\, 255\, 255)\; margin: 0px\; padding: 0px\;" times=""><span style="font-size: 14px\;"><span style="font-family: &quot\;times new roman&quot\;\;">7.&nbsp\;Networking 101&nbsp\;- Nancy LeJoice\, Maryland Commerce - September 1\, 2020</span></span></p>\n\n<p font-size:="" new="" overflow-wrap:="" style="color: rgb(51\, 51\, 51)\; font-family: sans-serif\, Arial\, Verdana\, &quot\;Trebuchet MS&quot\;\; font-size: 13px\; background-color: rgb(255\, 255\, 255)\; margin: 0px\; padding: 0px\;" times=""><span style="font-size: 14px\;"><span style="font-family: &quot\;times new roman&quot\;\;">8. Marketing/ Advertising - Angela Visintainer\, Maven &amp\; Smith - October 5\, 2020</span></span></p>\n\n<p font-size:="" new="" overflow-wrap:="" style="color: rgb(51\, 51\, 51)\; font-family: sans-serif\, Arial\, Verdana\, &quot\;Trebuchet MS&quot\;\; font-size: 13px\; background-color: rgb(255\, 255\, 255)\; margin: 0px\; padding: 0px\;" times="">&nbsp\;</p>\n\n<p font-size:="" new="" overflow-wrap:="" style="color: rgb(51\, 51\, 51)\; font-family: sans-serif\, Arial\, Verdana\, &quot\;Trebuchet MS&quot\;\; font-size: 13px\; background-color: rgb(255\, 255\, 255)\; margin: 0px\; padding: 0px\;" times=""><span style="font-size: 14px\;"><span style="font-family: &quot\;times new roman&quot\;\;">Scheduled for the first Monday of the month (Except September) from 8:00 AM-10:00 AM they are a great way to kick off your week!</span></span></p>\n\n<p font-size:="" new="" overflow-wrap:="" style="color: rgb(51\, 51\, 51)\; font-family: sans-serif\, Arial\, Verdana\, &quot\;Trebuchet MS&quot\;\; font-size: 13px\; background-color: rgb(255\, 255\, 255)\; margin: 0px\; padding: 0px\;" times="">&nbsp\;</p>\n\n<p font-size:="" new="" overflow-wrap:="" style="color: rgb(51\, 51\, 51)\; font-family: sans-serif\, Arial\, Verdana\, &quot\;Trebuchet MS&quot\;\; font-size: 13px\; background-color: rgb(255\, 255\, 255)\; margin: 0px\; padding: 0px\;" times="">&nbsp\;</p>\n\n<p font-size:="" new="" overflow-wrap:="" style="color: rgb(51\, 51\, 51)\; font-family: sans-serif\, Arial\, Verdana\, &quot\;Trebuchet MS&quot\;\; font-size: 13px\; background-color: rgb(255\, 255\, 255)\; margin: 0px\; padding: 0px\;" times=""><span style="font-size: 14px\;"><span style="font-family: &quot\;times new roman&quot\;\;">RSVP today!</span></span></p>\n\n<div 0in="" font-size:="" margin:="" trebuchet="">&nbsp\;</div>\n
LOCATION:Chamber Office 9194 Legion Road Denton\, MD
UID:e.1366.3615
SEQUENCE:3
DTSTAMP:20260423T132435Z
URL:https://business.carolinechamber.org/events/details/small-business-academy-june-2020-3615
END:VEVENT

END:VCALENDAR
