BEGIN:VCALENDAR
VERSION:2.0
PRODID:-//ChamberMaster//Event Calendar 2.0//EN
METHOD:PUBLISH
X-PUBLISHED-TTL:P3D
REFRESH-INTERVAL:P3D
CALSCALE:GREGORIAN
BEGIN:VEVENT
DTSTART:20201005T120000Z
DTEND:20201005T140000Z
X-MICROSOFT-CDO-ALLDAYEVENT:FALSE
SUMMARY:Small Business Academy - Oct 2020
DESCRIPTION:Please join the Caroline County Chamber of Commerce for our Small Business Academy!\n\n\n\n \n\n\nMarketing/ Advertising- Angela Visintainer/Maven & Smith- October 5\, 2020 \n\nThis class will teach you how to grow your audience in a global marketplace. Digital Marketing helps you to reach more customers while spending less money. Angela will teach you how to know your audience\, track responses and your best resources to increase brand loyalty.\n\n\n \n\nThe Small Business Marketing Academy is an opportunity for small businesses to learn\, share and plan for a growing thriving business. Participants come together one day a month for eight months to learn from local industry experts\, engage in round table discussion for practical advice and best practices\, and develop their own personal marketing/ business plan.\n\n \n\nNot a small business? You can teach one of the subjects listed below or send one of your up and coming team members!\n\n \n\n2021 Classes Include:\n\n1. Developing a Business Plan\n\n2. Building your Brand\n\n3.Simple Accounting/ Quick Books\n\n4. Business Law\n\n5. Sales- Strategies and skills\n\n6. Networking 101\n\n7. Business Credit- Loan Preparation\n\n8. Marketing/ Advertising\n\n \n\nScheduled for the first Monday of the month from 8:00 AM-10:00 AM they are a great way to kick off your week!\n\n \n\n \n\nRSVP today!
X-ALT-DESC;FMTTYPE=text/html:<p style="margin: 0px\; padding: 0px\; font-family: &quot\;times new roman&quot\;\; background-color: rgb(255\, 255\, 255)\; font-size: 10pt\; overflow-wrap: break-word\;"><span style="font-size:14px\;">Please join the Caroline County Chamber of Commerce for our Small Business Academy!</span><br />\n<br />\n&nbsp\;</p>\n\n<div id="SafeStyles1580136102" style="margin: 0px\; padding: 0px\; font-family: Tahoma\, Geneva\, sans-serif\; font-size: 12.09px\; background-color: rgb(255\, 255\, 255)\;">\n<p style="margin: 0in 0in 0.0001pt\; padding: 0px\;"><font face="times new roman" size="2"><strong>Marketing/ Advertising- Angela Visintainer/Maven &amp\; Smith- October 5\, 2020&nbsp\;</strong></font></p>\n\n<p style="margin: 0in 0in 0.0001pt\; padding: 0px\;"><font face="times new roman" size="2"><span style="color: rgb(51\, 51\, 51)\; font-size: 10.5pt\;">This class will teach you how to grow your audience in a global marketplace. Digital Marketing helps you to reach more customers while spending less money.&nbsp\;Angela will teach you how to know your audience\, track responses and your best resources to increase brand loyalty.</span></font></p>\n</div>\n\n<p style="margin: 0px\; padding: 0px\; font-family: &quot\;times new roman&quot\;\; background-color: rgb(255\, 255\, 255)\; font-size: 10pt\; overflow-wrap: break-word\;">&nbsp\;</p>\n\n<p style="margin: 0px\; padding: 0px\; font-family: &quot\;times new roman&quot\;\; background-color: rgb(255\, 255\, 255)\; font-size: 10pt\; overflow-wrap: break-word\;"><span style="font-size:14px\;">The Small Business Marketing Academy is an opportunity for small businesses to learn\, share and plan for a growing thriving business. Participants come together one day a month for&nbsp\;eight months to learn from local industry experts\, engage in round table discussion for practical advice and best practices\, and develop their own personal marketing/ business plan.</span></p>\n\n<p style="margin: 0px\; padding: 0px\; font-family: &quot\;times new roman&quot\;\; background-color: rgb(255\, 255\, 255)\; font-size: 10pt\; overflow-wrap: break-word\;">&nbsp\;</p>\n\n<p style="margin: 0px\; padding: 0px\; font-family: &quot\;times new roman&quot\;\; background-color: rgb(255\, 255\, 255)\; font-size: 10pt\; overflow-wrap: break-word\;"><span style="font-size:14px\;">Not a small business? You can teach one of the subjects listed below or send one of your up and coming team members!</span></p>\n\n<p style="margin: 0px\; padding: 0px\; font-family: &quot\;times new roman&quot\;\; background-color: rgb(255\, 255\, 255)\; font-size: 10pt\; overflow-wrap: break-word\;">&nbsp\;</p>\n\n<p style="margin: 0px\; padding: 0px\; font-family: &quot\;times new roman&quot\;\; background-color: rgb(255\, 255\, 255)\; font-size: 10pt\; overflow-wrap: break-word\;"><span style="font-size:14px\;">2021 Classes Include:</span></p>\n\n<p style="margin: 0px\; padding: 0px\; font-family: &quot\;times new roman&quot\;\; background-color: rgb(255\, 255\, 255)\; font-size: 10pt\; overflow-wrap: break-word\;"><span style="font-size:14px\;">1. Developing a Business Plan</span></p>\n\n<p style="margin: 0px\; padding: 0px\; font-family: &quot\;times new roman&quot\;\; background-color: rgb(255\, 255\, 255)\; font-size: 10pt\; overflow-wrap: break-word\;"><span style="font-size:14px\;">2. Building your Brand</span></p>\n\n<p style="margin: 0px\; padding: 0px\; font-family: &quot\;times new roman&quot\;\; background-color: rgb(255\, 255\, 255)\; font-size: 10pt\; overflow-wrap: break-word\;"><span style="font-size:14px\;">3.Simple Accounting/ Quick Books</span></p>\n\n<p style="margin: 0px\; padding: 0px\; font-family: &quot\;times new roman&quot\;\; background-color: rgb(255\, 255\, 255)\; font-size: 10pt\; overflow-wrap: break-word\;"><span style="font-size:14px\;">4. Business Law</span></p>\n\n<p style="margin: 0px\; padding: 0px\; font-family: &quot\;times new roman&quot\;\; background-color: rgb(255\, 255\, 255)\; font-size: 10pt\; overflow-wrap: break-word\;"><span style="font-size:14px\;">5. Sales- Strategies and skills</span></p>\n\n<p style="margin: 0px\; padding: 0px\; font-family: &quot\;times new roman&quot\;\; background-color: rgb(255\, 255\, 255)\; font-size: 10pt\; overflow-wrap: break-word\;"><span style="font-size:14px\;">6. Networking 101</span></p>\n\n<p style="margin: 0px\; padding: 0px\; font-family: &quot\;times new roman&quot\;\; background-color: rgb(255\, 255\, 255)\; font-size: 10pt\; overflow-wrap: break-word\;"><span style="font-size:14px\;">7. Business Credit- Loan Preparation</span></p>\n\n<p style="margin: 0px\; padding: 0px\; font-family: &quot\;times new roman&quot\;\; background-color: rgb(255\, 255\, 255)\; font-size: 10pt\; overflow-wrap: break-word\;"><span style="font-size:14px\;">8. Marketing/ Advertising</span></p>\n\n<p style="margin: 0px\; padding: 0px\; font-family: &quot\;times new roman&quot\;\; background-color: rgb(255\, 255\, 255)\; font-size: 10pt\; overflow-wrap: break-word\;">&nbsp\;</p>\n\n<p style="margin: 0px\; padding: 0px\; font-family: &quot\;times new roman&quot\;\; background-color: rgb(255\, 255\, 255)\; font-size: 10pt\; overflow-wrap: break-word\;"><span style="font-size:14px\;">Scheduled for the first Monday of the month from 8:00 AM-10:00 AM they are a great way to kick off your week!</span></p>\n\n<p style="margin: 0px\; padding: 0px\; font-family: &quot\;times new roman&quot\;\; background-color: rgb(255\, 255\, 255)\; font-size: 10pt\; overflow-wrap: break-word\;">&nbsp\;</p>\n\n<p style="margin: 0px\; padding: 0px\; font-family: &quot\;times new roman&quot\;\; background-color: rgb(255\, 255\, 255)\; font-size: 10pt\; overflow-wrap: break-word\;">&nbsp\;</p>\n\n<p style="margin: 0px\; padding: 0px\; font-family: &quot\;times new roman&quot\;\; background-color: rgb(255\, 255\, 255)\; font-size: 10pt\; overflow-wrap: break-word\;"><span style="font-size:14px\;">RSVP today!</span></p>\n
LOCATION:Chamber Office 9194 Legion Road Denton\, MD
UID:e.1366.3603
SEQUENCE:3
DTSTAMP:20260421T081313Z
URL:https://business.carolinechamber.org/events/details/small-business-academy-oct-2020-3603
END:VEVENT

END:VCALENDAR
