BEGIN:VCALENDAR
VERSION:2.0
PRODID:-//ChamberMaster//Event Calendar 2.0//EN
METHOD:PUBLISH
X-PUBLISHED-TTL:P3D
REFRESH-INTERVAL:P3D
CALSCALE:GREGORIAN
BEGIN:VEVENT
DTSTART:20190216T160000Z
DTEND:20190216T183000Z
X-MICROSOFT-CDO-ALLDAYEVENT:FALSE
SUMMARY:Soup and Walk
DESCRIPTION:Look for green plants that seek the winter sun and trees with telltale bark on Adkins Arboretum's Soup and Walk! Plants of interest include mosses\, cranefly orchid\, magnolia and holly leaves\, and the green stems of strawberry bush and greenbrier. Following a guided walk with a docent naturalist\, enjoy a delicious and nutritious lunch along with a brief lesson about nutrition. Copies of recipes are provided.
X-ALT-DESC;FMTTYPE=text/html:<span style="color: rgb(32\, 32\, 32)\; font-family: Arial\, sans-serif\; font-size: 15.3333px\; background-color: rgb(255\, 255\, 255)\;">Look for green plants that seek the winter sun and trees with telltale bark on Adkins Arboretum&rsquo\;s Soup and Walk! Plants of interest include mosses\, cranefly orchid\, magnolia and holly leaves\, and the green stems of strawberry bush and greenbrier. Following a guided walk with a docent naturalist\, enjoy a delicious and nutritious lunch along with a brief lesson about nutrition. Copies of recipes are provided.</span>
LOCATION:Adkins Arboretum 12610 Eveland Road Ridgely\, MD
UID:e.1366.2080
SEQUENCE:3
DTSTAMP:20260424T113303Z
URL:https://business.carolinechamber.org/events/details/soup-and-walk-2080
END:VEVENT

END:VCALENDAR
