BEGIN:VCALENDAR
VERSION:2.0
PRODID:-//ChamberMaster//Event Calendar 2.0//EN
METHOD:PUBLISH
X-PUBLISHED-TTL:P3D
REFRESH-INTERVAL:P3D
CALSCALE:GREGORIAN
BEGIN:VEVENT
DTSTART:20221022T210000Z
DTEND:20221023T000000Z
X-MICROSOFT-CDO-ALLDAYEVENT:FALSE
SUMMARY:Spooktacular Fall Festival
DESCRIPTION:Celebrate Halloween with a free fun spooky event. Hay rides\, Bounce houses\, games\, Tent-or-Treat\, Outdoor movie\,Live music\, costume contest and more!!
X-ALT-DESC;FMTTYPE=text/html:Celebrate Halloween with a free fun spooky event. Hay rides\, Bounce houses\, games\, Tent-or-Treat\, Outdoor movie\,Live music\, costume contest and more!!
LOCATION:Choptank River Park 224 Sunset Ave. Greensboro MD
UID:e.1366.3965
SEQUENCE:3
DTSTAMP:20260419T185516Z
URL:https://business.carolinechamber.org/events/details/spooktacular-fall-festival-3965
END:VEVENT

END:VCALENDAR
