BEGIN:VCALENDAR
VERSION:2.0
PRODID:-//ChamberMaster//Event Calendar 2.0//EN
METHOD:PUBLISH
X-PUBLISHED-TTL:P3D
REFRESH-INTERVAL:P3D
CALSCALE:GREGORIAN
BEGIN:VEVENT
DTSTART:20210415T180000Z
DTEND:20210415T210000Z
X-MICROSOFT-CDO-ALLDAYEVENT:FALSE
SUMMARY:State Line Job Fair
DESCRIPTION:State Line Job Fair\n\nThere will be Businesses from all five counties that make up the Upper Shore participating\n\n40+ Employers April 15th (rain date April 22nd)\n\nMaryland and Delaware companies\n\nFull   Time Part Time positions\n\nFree Schooling grant info\n\nFace Mask Required.\n\n\n\nClick Here for current flyer.
X-ALT-DESC;FMTTYPE=text/html:<strong>State Line Job Fair</strong><br />\n<span style="font-size:12px\;"><span style="font-family: Tahoma\, Geneva\, sans-serif\; background-color: rgb(255\, 255\, 255)\;">There will be Businesses from all five counties that make up the Upper Shore participating</span></span><br />\n40+ Employers April 15th (rain date April 22nd)<br />\nMaryland and Delaware companies<br />\nFull &ndash\; Time Part Time positions<br />\nFree Schooling grant info<br />\nFace Mask Required.<br />\n<br />\n<a href="https://chambermaster.blob.core.windows.net/userfiles/UserFiles/chambers/1366/File/JobFairApril15th.pdf">Click Here for current flyer.</a>
LOCATION:Harvest Ridge Winery 477 Westville Rd. Marydel\, DE
UID:e.1366.3737
SEQUENCE:3
DTSTAMP:20260420T210046Z
URL:https://business.carolinechamber.org/events/details/state-line-job-fair-3737
END:VEVENT

END:VCALENDAR
