BEGIN:VCALENDAR
VERSION:2.0
PRODID:-//ChamberMaster//Event Calendar 2.0//EN
METHOD:PUBLISH
X-PUBLISHED-TTL:P3D
REFRESH-INTERVAL:P3D
CALSCALE:GREGORIAN
BEGIN:VEVENT
DTSTART:20191112T163000Z
DTEND:20191112T183000Z
X-MICROSOFT-CDO-ALLDAYEVENT:FALSE
SUMMARY:Talking Business Tuesdays
DESCRIPTION:Score will be in the Chamber Office the second Tuesday of the month to offer FREE\, Real-World Mentoring to Help Your Business Succeed.\n\n\n\nSCORE is a resource partner of the US Small Business Administration. SCORE is America's premier small business mentoring organization\, that is dedicated to the formation\, growth and success of small businesses nationwide.
X-ALT-DESC;FMTTYPE=text/html:Score will be in the Chamber Office the second Tuesday of the month to offer FREE\, Real-World Mentoring to Help Your Business Succeed.<br />\n<br />\nSCORE is a resource partner of the US Small Business Administration. SCORE is America&#39\;s premier small business mentoring organization\, that is dedicated to the formation\, growth and success of small businesses nationwide.
LOCATION:Chamber Office 9194 Legion Road Suite 1 Denton\, MD
UID:e.1366.2297
SEQUENCE:3
DTSTAMP:20260423T233618Z
URL:https://business.carolinechamber.org/events/details/talking-business-tuesdays-11-12-2019-2297
END:VEVENT

END:VCALENDAR
