BEGIN:VCALENDAR
VERSION:2.0
PRODID:-//ChamberMaster//Event Calendar 2.0//EN
METHOD:PUBLISH
X-PUBLISHED-TTL:P3D
REFRESH-INTERVAL:P3D
CALSCALE:GREGORIAN
BEGIN:VEVENT
DTSTART:20210903T160000Z
DTEND:20210927T160000Z
X-MICROSOFT-CDO-ALLDAYEVENT:FALSE
SUMMARY:The Kevin Hines: Art of Wellness Video Series
DESCRIPTION:September is National Suicide Prevention Month\, and if you want to learn more about mental health and suicide\, tune in for the seven-part Kevin Hines: Art of Wellness video series being released every Monday and Friday at noon starting September 6. Hear from suicide survivor Kevin Hines and local Maryland behavioral health experts on how to help youth\, veterans\, first responders\, older adults\, and anyone affected by mental health challenges. For more information\, visit www.midshorebehavioralhealth.org/kevinhines.
X-ALT-DESC;FMTTYPE=text/html:September is National Suicide Prevention Month\, and if you want to learn more about mental health and suicide\, tune in for the seven-part Kevin Hines: Art of Wellness video series being released every Monday and Friday at noon starting September 6. Hear from suicide survivor Kevin Hines and local Maryland behavioral health experts on how to help youth\, veterans\, first responders\, older adults\, and anyone affected by mental health challenges. For more information\, visit www.midshorebehavioralhealth.org/kevinhines.
LOCATION:Virtual
UID:e.1366.3756
SEQUENCE:3
DTSTAMP:20260420T125550Z
URL:https://business.carolinechamber.org/events/details/the-kevin-hines-art-of-wellness-video-series-3756
END:VEVENT

END:VCALENDAR
