BEGIN:VCALENDAR
VERSION:2.0
PRODID:-//ChamberMaster//Event Calendar 2.0//EN
METHOD:PUBLISH
X-PUBLISHED-TTL:P3D
REFRESH-INTERVAL:P3D
CALSCALE:GREGORIAN
BEGIN:VEVENT
DTSTART:20201024T170000Z
DTEND:20201024T210000Z
X-MICROSOFT-CDO-ALLDAYEVENT:FALSE
SUMMARY:The Newcomb 1st Annual Car Show
DESCRIPTION:Car Show\, 50/50 raffle\, Food Truck\, DJ Music and Silent Auction. This event is to benefit the Caroline County Family YMCA.
X-ALT-DESC;FMTTYPE=text/html:Car Show\, 50/50 raffle\, Food Truck\, DJ Music and Silent Auction. This event is to benefit the Caroline County Family YMCA.
LOCATION:46 Denton Plaza (Parking Lot) Denton MD
UID:e.1366.3692
SEQUENCE:3
DTSTAMP:20260421T082427Z
URL:https://business.carolinechamber.org/events/details/the-newcomb-1st-annual-car-show-3692
END:VEVENT

END:VCALENDAR
