BEGIN:VCALENDAR
VERSION:2.0
PRODID:-//ChamberMaster//Event Calendar 2.0//EN
METHOD:PUBLISH
X-PUBLISHED-TTL:P3D
REFRESH-INTERVAL:P3D
CALSCALE:GREGORIAN
BEGIN:VEVENT
DTSTART:20191127T210000Z
DTEND:20191127T230000Z
X-MICROSOFT-CDO-ALLDAYEVENT:FALSE
SUMMARY:Tie Dye for Beginners
DESCRIPTION:All ages welcome for this Beginner's Tye-Dye class! You will learn the basics of Tye- Dye and take home 2 or 3 completed projects. You are welcome to bring your own cotton t-shirt or other small items for the tye-dye project. Items must be white or light-colored. Materials will be provided if you don't want to bring your own base. $25/CCCA Members\, $30/Non-Members
X-ALT-DESC;FMTTYPE=text/html:<span style="color: rgb(32\, 32\, 32)\; font-family: Helvetica\; font-size: 16px\; background-color: rgb(255\, 255\, 255)\;">All ages welcome for this Beginner&rsquo\;s Tye-Dye class! You will learn the basics of Tye- Dye and take home 2 or 3 completed projects. You are welcome to bring your own cotton t-shirt or other small items for the tye-dye project. Items must be white or light-colored. Materials will be provided if you don&rsquo\;t want to bring your own base.&nbsp\;</span><strong style="color: rgb(32\, 32\, 32)\; font-family: Helvetica\; font-size: 16px\; background-color: rgb(255\, 255\, 255)\;">$25/CCCA Members\, $30/Non-Members</strong>
LOCATION:
UID:e.1366.3555
SEQUENCE:3
DTSTAMP:20260423T233129Z
URL:https://business.carolinechamber.org/events/details/tie-dye-for-beginners-3555
END:VEVENT

END:VCALENDAR
