BEGIN:VCALENDAR
VERSION:2.0
PRODID:-//ChamberMaster//Event Calendar 2.0//EN
METHOD:PUBLISH
X-PUBLISHED-TTL:P3D
REFRESH-INTERVAL:P3D
CALSCALE:GREGORIAN
BEGIN:VEVENT
DTSTART:20200724T210000Z
DTEND:20200725T000000Z
X-MICROSOFT-CDO-ALLDAYEVENT:FALSE
SUMMARY:Town of Denton - Date Night
DESCRIPTION:Please see http://www.downtowndenton.com/newsite/ for more information
X-ALT-DESC;FMTTYPE=text/html:Please see&nbsp\;<a href="http://www.downtowndenton.com/newsite/">http://www.downtowndenton.com/newsite/</a>&nbsp\;for more information
LOCATION:
UID:e.1366.3639
SEQUENCE:3
DTSTAMP:20260423T114908Z
URL:https://business.carolinechamber.org/events/details/town-of-denton-date-night-3639
END:VEVENT

END:VCALENDAR
