BEGIN:VCALENDAR
VERSION:2.0
PRODID:-//ChamberMaster//Event Calendar 2.0//EN
METHOD:PUBLISH
X-PUBLISHED-TTL:P3D
REFRESH-INTERVAL:P3D
CALSCALE:GREGORIAN
BEGIN:VEVENT
DTSTART:20170403T220000Z
DTEND:20170403T230000Z
X-MICROSOFT-CDO-ALLDAYEVENT:FALSE
SUMMARY:Trip to Ireland Information Night
DESCRIPTION:You're invited to a special travel presentation!\n\nCome listen as travel experts from Collette Tours discuss the Chamber's next international trip: Irish Splendor! \n\n\n\nThe Chamber presents a wonderful trip to Ireland November 4-11\, 2017 and we want you to come!\n\n	Travel the Dingle Peninsula\, one of the world's most beautiful costal routes.\n	Enjoy a sightseeing tour of lively Dublin\, the 'Fair City.'\n	Explore the charming town of Killarney.\n	Kiss the famed Blarney Stone at Blarney Castle.\n	View the Rock of Cashel\, the historic site where St. Patrick preached.\n	Tour Kilmainham Gaol\, the historic prison that held some of Ireland's most famous political and military leaders. \n\nCulinary Inclusions: 6 Breakfasts\, 3 Dinners\n\n\n	Enjoy a rousing night of traditional Irish entertainment accompanied by a hearty dinner.\n	Explore Tullamore and enjoy a whiskey tasting.\n	Visit a traditional Irish farm and savor homemade scones and tea.\n\nTrip Highlights: Dublin\, Irish Night\, Kilmainham Gaol\, Blarney Castle\, Killarney\, Diner's Choice\, Dingle Peninsula\, Farm Visit\, Cliffs of Moher\, Whiskey Distillery\, Cabra Castle\n\n\n\nBook now and save $200 per person! Click here for full brochure!
X-ALT-DESC;FMTTYPE=text/html:<strong>You&#39\;re invited to a special travel presentation!</strong><br />\nCome listen as travel experts from Collette Tours discuss the Chamber&#39\;s next international trip: <strong>Irish Splendor!&nbsp\;</strong><br />\n<br />\nThe Chamber presents a wonderful trip to Ireland November 4-11\, 2017 and we want you to come!\n<ul>\n	<li>Travel the Dingle Peninsula\, one of the world&#39\;s most beautiful costal routes.</li>\n	<li>Enjoy a sightseeing tour of lively Dublin\, the &#39\;Fair City.&#39\;</li>\n	<li>Explore the charming town of Killarney.</li>\n	<li>Kiss the famed Blarney Stone at Blarney Castle.</li>\n	<li>View the Rock of Cashel\, the historic site where St. Patrick preached.</li>\n	<li>Tour Kilmainham&nbsp\;Gaol\, the historic prison that held some of Ireland&#39\;s most famous political and military leaders.&nbsp\;</li>\n</ul>\n<strong>Culinary Inclusions:</strong> 6 Breakfasts\, 3 Dinners\n\n<ul>\n	<li>Enjoy a rousing night of traditional Irish entertainment accompanied by a hearty dinner.</li>\n	<li>Explore Tullamore and enjoy a whiskey tasting.</li>\n	<li>Visit a traditional Irish farm and savor homemade scones and tea.</li>\n</ul>\n<strong>Trip Highlights:</strong> Dublin\, Irish Night\, Kilmainham Gaol\, Blarney Castle\, Killarney\, <em>Diner&#39\;s Choice\,</em> Dingle Peninsula\, Farm Visit\, Cliffs of Moher\, Whiskey Distillery\, Cabra Castle<br />\n<br />\nBook now and save $200 per person! Click here for full brochure!
LOCATION:Caroline Chamber's Large Conference Room Caroline Soil Conservation District Building 9194 Legion Road Denton\, MD
UID:e.1366.665
SEQUENCE:3
DTSTAMP:20260425T184834Z
URL:https://business.carolinechamber.org/events/details/trip-to-ireland-information-night-665
END:VEVENT

END:VCALENDAR
