BEGIN:VCALENDAR
VERSION:2.0
PRODID:-//ChamberMaster//Event Calendar 2.0//EN
METHOD:PUBLISH
X-PUBLISHED-TTL:P3D
REFRESH-INTERVAL:P3D
CALSCALE:GREGORIAN
BEGIN:VEVENT
DTSTART:20201204T233000Z
DTEND:20201205T003000Z
X-MICROSOFT-CDO-ALLDAYEVENT:FALSE
SUMMARY:VIRTUAL FEDERALSBURG CHRISTMAS TREE LIGHTING AT THE TRIANGLE
DESCRIPTION:Start off Federalsburg holiday season as the Christmas tree at the Triangle is illuminated! This year's event will be held virtually and will be shared on FB live on the Town of Federalsburg's Facebook page.. https://www.facebook.com/TownofFederalsburg
X-ALT-DESC;FMTTYPE=text/html:<span style="box-sizing: border-box\; vertical-align: baseline\; font-family: &quot\;Open Sans&quot\;\; font-size: 18px\; outline: 0px\; padding: 0px\; margin: 0px\; border: 0px\; color: rgb(103\, 103\, 103)\; background-color: rgb(255\, 255\, 255)\;">Start off Federalsburg holiday season as the Christmas tree at the Triangle is illuminated! This year&rsquo\;s event will be&nbsp\;</span><span style="box-sizing: border-box\; vertical-align: baseline\; font-family: &quot\;Open Sans&quot\;\; font-size: 18px\; outline: 0px\; padding: 0px\; margin: 0px\; border: 0px\; color: rgb(103\, 103\, 103)\; background-color: rgb(255\, 255\, 255)\;">held virtually and will be shared on FB live on the Town of Federalsburg&rsquo\;s Facebook page.</span>.&nbsp\;<a href="https://www.facebook.com/TownofFederalsburg">https://www.facebook.com/TownofFederalsburg</a>
LOCATION:Your own home!
UID:e.1366.3706
SEQUENCE:3
DTSTAMP:20260421T033047Z
URL:https://business.carolinechamber.org/events/details/virtual-federalsburg-christmas-tree-lighting-at-the-triangle-3706
END:VEVENT

END:VCALENDAR
