BEGIN:VCALENDAR
VERSION:2.0
PRODID:-//ChamberMaster//Event Calendar 2.0//EN
METHOD:PUBLISH
X-PUBLISHED-TTL:P3D
REFRESH-INTERVAL:P3D
CALSCALE:GREGORIAN
BEGIN:VEVENT
DTSTART:20181212T140000Z
DTEND:20181212T220000Z
X-MICROSOFT-CDO-ALLDAYEVENT:FALSE
SUMMARY:Walk In Wednesdays
DESCRIPTION:Stop by the Chamber Office for Punch and Cookies and Meet Beth Hobson\, our new Administrative Assistant
X-ALT-DESC;FMTTYPE=text/html:Stop by the Chamber Office for Punch and Cookies and Meet Beth Hobson\, our new Administrative Assistant
LOCATION:
UID:e.1366.2062
SEQUENCE:3
DTSTAMP:20260424T135746Z
URL:https://business.carolinechamber.org/events/details/walk-in-wednesdays-2062
END:VEVENT

END:VCALENDAR
