BEGIN:VCALENDAR
VERSION:2.0
PRODID:-//ChamberMaster//Event Calendar 2.0//EN
METHOD:PUBLISH
X-PUBLISHED-TTL:P3D
REFRESH-INTERVAL:P3D
CALSCALE:GREGORIAN
BEGIN:VEVENT
DTSTART:20211203T220000Z
DTEND:20211219T020000Z
X-MICROSOFT-CDO-ALLDAYEVENT:FALSE
SUMMARY:Whoville Village Holiday Park
DESCRIPTION:Come and enjoy the Christmas lights at Whoville Village! Free Pictures with Grinch and Cindy Lou at Whoville Village Free Pictures with Santa at Santa Village Free Hot Chocolate and Cookies Christmas crafts vendors Food Truck Music and a lot fun!
X-ALT-DESC;FMTTYPE=text/html:Come and enjoy the Christmas lights at Whoville Village! Free Pictures with Grinch and Cindy Lou at Whoville Village Free Pictures with Santa at Santa Village Free Hot Chocolate and Cookies Christmas crafts vendors Food Truck Music and a lot fun!
LOCATION:13781 Greensboro Rd. Greensboro MD 21639
UID:e.1366.3893
SEQUENCE:3
DTSTAMP:20260420T091341Z
URL:https://business.carolinechamber.org/events/details/whoville-village-holiday-park-12-03-2021-3893
END:VEVENT

END:VCALENDAR
