BEGIN:VCALENDAR
VERSION:2.0
PRODID:-//ChamberMaster//Event Calendar 2.0//EN
METHOD:PUBLISH
X-PUBLISHED-TTL:P3D
REFRESH-INTERVAL:P3D
CALSCALE:GREGORIAN
BEGIN:VEVENT
DTSTART:20190215T230000Z
DTEND:20190216T010000Z
X-MICROSOFT-CDO-ALLDAYEVENT:FALSE
SUMMARY:Wine and Cheese Pairing
DESCRIPTION:Bring your sweetheart or someone special in for a Wine & Cheese Pairing at Harvest Ridge Winery. Learn how to pair six different types of cheese with local wines. Tickets are $25 per person and the tasting is limited to 20 people. This is an age 21+ event. Doors open at 5:30pm. These pairings sell out quickly.
X-ALT-DESC;FMTTYPE=text/html:<span style="color: rgb(32\, 32\, 32)\; font-family: Arial\, sans-serif\; font-size: 15.3333px\; background-color: rgb(255\, 255\, 255)\;">Bring your sweetheart or someone special in for a Wine &amp\; Cheese Pairing at Harvest Ridge Winery.&nbsp\;Learn how to pair six different types of cheese with local wines. Tickets are $25 per person and the tasting is limited to 20 people. This is an age 21+ event. Doors open at 5:30pm. These pairings sell out quickly.</span>
LOCATION:Harvest Ridge Winery 447 Westville Road Marydel\, DE
UID:e.1366.2078
SEQUENCE:3
DTSTAMP:20260424T112622Z
URL:https://business.carolinechamber.org/events/details/wine-and-cheese-pairing-2078
END:VEVENT

END:VCALENDAR
