BEGIN:VCALENDAR
VERSION:2.0
PRODID:-//ChamberMaster//Event Calendar 2.0//EN
METHOD:PUBLISH
X-PUBLISHED-TTL:P3D
REFRESH-INTERVAL:P3D
CALSCALE:GREGORIAN
BEGIN:VEVENT
DTSTART:20200114T130000Z
DTEND:20200114T150000Z
X-MICROSOFT-CDO-ALLDAYEVENT:FALSE
SUMMARY:Women In Business - Five Essential Skills of Leadership
DESCRIPTION:Women in Business Topic- Five Essential Skillls of Leadership\nChange Management                                                                                                                                      Influence and Negotiation                                                                                                                          Communication  \n\nAccountability\n\nCoaching\n\nThese skills help an organization/ business to create a program that will help equip  their current leaders and future leaders with the right skills\, tools and behaviors they need to confidently lead others and drive performance of their team
X-ALT-DESC;FMTTYPE=text/html:<span style="font-family: arial\, helvetica\, sans-serif\; font-size: small\; background-color: rgb(255\, 255\, 255)\;">Women in Business Topic- Five Essential Skillls of Leadership</span>\n<p style="margin: 0px\; padding: 0px\; font-family: &quot\;times new roman&quot\;\; font-size: 12pt\; background-color: rgb(255\, 255\, 255)\; overflow-wrap: break-word\;"><span style="font-family:arial\;"><span style="font-size: 12pt\;"><span style="font-size: 10pt\;">Change Management&nbsp\; &nbsp\; &nbsp\; &nbsp\; &nbsp\; &nbsp\; &nbsp\; &nbsp\; &nbsp\; &nbsp\; &nbsp\; &nbsp\; &nbsp\; &nbsp\; &nbsp\; &nbsp\; &nbsp\; &nbsp\; &nbsp\; &nbsp\; &nbsp\; &nbsp\; &nbsp\; &nbsp\; &nbsp\; &nbsp\; &nbsp\; &nbsp\; &nbsp\; &nbsp\; &nbsp\; &nbsp\; &nbsp\; &nbsp\; &nbsp\; &nbsp\; &nbsp\; &nbsp\; &nbsp\; &nbsp\; &nbsp\; &nbsp\; &nbsp\; &nbsp\; &nbsp\; &nbsp\; &nbsp\; &nbsp\; &nbsp\; &nbsp\; &nbsp\; &nbsp\; &nbsp\; &nbsp\; &nbsp\; &nbsp\; &nbsp\; &nbsp\; &nbsp\; &nbsp\; &nbsp\; &nbsp\; &nbsp\; &nbsp\; &nbsp\; &nbsp\; &nbsp\; Influence and Negotiation&nbsp\;&nbsp\;&nbsp\;&nbsp\;&nbsp\;&nbsp\;&nbsp\;&nbsp\;&nbsp\;&nbsp\;&nbsp\;&nbsp\;&nbsp\;&nbsp\;&nbsp\;&nbsp\;&nbsp\;&nbsp\;&nbsp\;&nbsp\;&nbsp\;&nbsp\;&nbsp\;&nbsp\;&nbsp\;&nbsp\;&nbsp\;&nbsp\;&nbsp\;&nbsp\;&nbsp\;&nbsp\;&nbsp\;&nbsp\;&nbsp\;&nbsp\;&nbsp\;&nbsp\;&nbsp\;&nbsp\;&nbsp\;&nbsp\;&nbsp\;&nbsp\;&nbsp\;&nbsp\;&nbsp\;&nbsp\;&nbsp\;&nbsp\;&nbsp\;&nbsp\;&nbsp\;&nbsp\;&nbsp\;&nbsp\;&nbsp\;&nbsp\;&nbsp\;&nbsp\;&nbsp\;&nbsp\;&nbsp\;&nbsp\;&nbsp\;&nbsp\;&nbsp\;&nbsp\;&nbsp\;&nbsp\;&nbsp\;&nbsp\;&nbsp\;&nbsp\;&nbsp\;&nbsp\;&nbsp\;&nbsp\;&nbsp\;&nbsp\;&nbsp\;&nbsp\;&nbsp\;&nbsp\;&nbsp\;&nbsp\;&nbsp\;&nbsp\;&nbsp\;&nbsp\;&nbsp\;&nbsp\;&nbsp\;&nbsp\;&nbsp\;&nbsp\;&nbsp\;&nbsp\;&nbsp\;&nbsp\;&nbsp\;&nbsp\;&nbsp\;&nbsp\;&nbsp\;&nbsp\;&nbsp\;&nbsp\;&nbsp\;&nbsp\;&nbsp\;&nbsp\;&nbsp\;&nbsp\;&nbsp\;&nbsp\;&nbsp\;&nbsp\;&nbsp\;&nbsp\;&nbsp\; Communication&nbsp\;&nbsp\;</span></span></span></p>\n\n<p style="margin: 0px\; padding: 0px\; font-family: &quot\;times new roman&quot\;\; font-size: 12pt\; background-color: rgb(255\, 255\, 255)\; overflow-wrap: break-word\;"><span style="font-family:arial\;"><span style="font-size: 12pt\;"><span style="font-size: 10pt\;">Accountability</span></span></span></p>\n\n<p style="margin: 0px\; padding: 0px\; font-family: &quot\;times new roman&quot\;\; font-size: 12pt\; background-color: rgb(255\, 255\, 255)\; overflow-wrap: break-word\;"><span style="font-family:arial\;"><span style="font-size: 12pt\;"><span style="font-size: 10pt\;">Coaching</span></span></span></p>\n\n<p style="margin: 0px\; padding: 0px\; font-family: &quot\;times new roman&quot\;\; font-size: 12pt\; background-color: rgb(255\, 255\, 255)\; overflow-wrap: break-word\;"><span style="font-family:arial\;"><span style="font-size: 12pt\;"><span style="font-size: 10pt\;">These skills help an organization/ business to create a program that will help equip&nbsp\; their current leaders and future leaders with the right skills\, tools and behaviors they need to confidently lead others and drive performance of their team</span></span></span></p>\n
LOCATION:9 Central Diner Ridgely\, MD
UID:e.1366.3589
SEQUENCE:3
DTSTAMP:20260423T220604Z
URL:https://business.carolinechamber.org/events/details/women-in-business-five-essential-skills-of-leadership-3589
END:VEVENT

END:VCALENDAR
