BEGIN:VCALENDAR
VERSION:2.0
PRODID:-//ChamberMaster//Event Calendar 2.0//EN
METHOD:PUBLISH
X-PUBLISHED-TTL:P3D
REFRESH-INTERVAL:P3D
CALSCALE:GREGORIAN
BEGIN:VEVENT
DTSTART:20220430T150000Z
DTEND:20220430T180000Z
X-MICROSOFT-CDO-ALLDAYEVENT:FALSE
SUMMARY:YMCA Healthy Kids Day
DESCRIPTION:Join us April 30 for a day healthy\, fun activities that celebrate kids being kids! -Bounce House -Healthy Snacks -Games -Community resources -Music and more! This event is free and open to the public
X-ALT-DESC;FMTTYPE=text/html:Join us April 30 for a day healthy\, fun activities that celebrate kids being kids! -Bounce House -Healthy Snacks -Games -Community resources -Music and more! This event is free and open to the public
LOCATION:Choptank River Park 224 Sunset Ave. Greensboro MD 21639
UID:e.1366.3920
SEQUENCE:3
DTSTAMP:20260420T032526Z
URL:https://business.carolinechamber.org/events/details/ymca-healthy-kids-day-3920
END:VEVENT

END:VCALENDAR
