BEGIN:VCALENDAR
VERSION:2.0
PRODID:-//ChamberMaster//Event Calendar 2.0//EN
METHOD:PUBLISH
X-PUBLISHED-TTL:P3D
REFRESH-INTERVAL:P3D
CALSCALE:GREGORIAN
BEGIN:VEVENT
DTSTART:20170713T210000Z
DTEND:20170713T230000Z
X-MICROSOFT-CDO-ALLDAYEVENT:FALSE
SUMMARY:Young Professionals After Hours Mixer
DESCRIPTION:This monthly after hours event is an informal opportunity to get better acquainted with the business members and enterprising young professionals in our county. This event is open to Anyone  and ALL Chamber members are encouraged to attend.
X-ALT-DESC;FMTTYPE=text/html:<span style="color: rgb(0\, 0\, 0)\; font-family: Arial\, Helvetica\, &quot\;MS Sans Serif&quot\;\, sans-serif\; font-size: 11px\;">This monthly after hours event is an informal opportunity to get better acquainted&nbsp\;with&nbsp\;the business members and&nbsp\;enterprising young professionals in our county. This event is open to <b><u>Anyone&nbsp\;</u></b>&nbsp\;and ALL</span><span style="color: rgb(0\, 0\, 0)\; font-family: Arial\, Helvetica\, &quot\;MS Sans Serif&quot\;\, sans-serif\; font-size: 11px\;">&nbsp\;Chamber members are encouraged to attend.</span>
LOCATION:Harry's on the Green 4 First Street Denton\, MD
UID:e.1366.675
SEQUENCE:3
DTSTAMP:20260425T155843Z
URL:https://business.carolinechamber.org/events/details/young-professionals-after-hours-mixer-07-13-2017-675
END:VEVENT

END:VCALENDAR
